BEGIN:VCALENDAR
VERSION:2.0
PRODID:-//Hamilton Tramping Club//NONSGML kigkonsult.se iCalcreator 2.41.92//
CALSCALE:GREGORIAN
METHOD:PUBLISH
UID:30343735-3938-4439-b637-343664666634
X-WR-CALNAME:iCagenda
X-WR-CALDESC:Event Management Extension for Joomla!
X-WR-RELCALID:3E26604A-50F4-4449-8B3E-E4F4932D05B5
X-WR-TIMEZONE:Pacific/Auckland
BEGIN:VTIMEZONE
TZID:Pacific/Auckland
TZUNTIL:20280401T140000Z
BEGIN:STANDARD
TZNAME:NZST
DTSTART:20260405T030000
TZOFFSETFROM:+1300
TZOFFSETTO:+1200
RDATE:20270404T030000
END:STANDARD
BEGIN:DAYLIGHT
TZNAME:NZDT
DTSTART:20250928T020000
TZOFFSETFROM:+1200
TZOFFSETTO:+1300
RDATE:20260927T020000
RDATE:20270926T020000
END:DAYLIGHT
END:VTIMEZONE
BEGIN:VEVENT
UID:31376132-3433-4136-b738-376137636264
DTSTAMP:20260420T153656Z
CATEGORIES:A Grade
CLASS:PUBLIC
DESCRIPTION;ALTREP="CID:<FFFF__=0ABBE548DFE235B58f9e8a93d@coffeebean.com>":
 Tramp Leader : Carl\nCo-leader : Yvonne\n\nBookings start 28 May to 22 Jun
 \nA walk up the kaimai involving some stream walking&nbsp\;\n\nTransport\,
  $30 Members &amp\; $35 Non-members\nIf you are not a member of Hamilton T
 ramping Club and would like more Information about our trips please contac
 t the Club Captain Kathy Old on 027 815 3212
DTSTART:20260627T193000Z
DTEND:20260628T053000Z
GEO:00;0
LOCATION:
ORGANIZER;CN=:mailto:mosclanz@gmail.com
SEQUENCE:1
SUMMARY:Tramp 1370 - 28 JUN\, Carl’s Lost Stream Track\, Kaimais. Grade A i
 sh
TRANSP:OPAQUE
URL:https://tramphtc.org.nz/index.php/where-were-going/75-tramp-1370-28-jun
 -carl-s-lost-stream-track-kaimais-grade-a-ish
END:VEVENT
END:VCALENDAR
