BEGIN:VCALENDAR
VERSION:2.0
PRODID:-//Hamilton Tramping Club//NONSGML kigkonsult.se iCalcreator 2.41.92//
CALSCALE:GREGORIAN
METHOD:PUBLISH
UID:63346539-3661-4230-a531-663362323734
X-WR-CALNAME:iCagenda
X-WR-CALDESC:Event Management Extension for Joomla!
X-WR-RELCALID:3E26604A-50F4-4449-8B3E-E4F4932D05B5
X-WR-TIMEZONE:Pacific/Auckland
BEGIN:VTIMEZONE
TZID:Pacific/Auckland
TZUNTIL:20280401T140000Z
BEGIN:STANDARD
TZNAME:NZST
DTSTART:20260405T030000
TZOFFSETFROM:+1300
TZOFFSETTO:+1200
RDATE:20270404T030000
END:STANDARD
BEGIN:DAYLIGHT
TZNAME:NZDT
DTSTART:20250928T020000
TZOFFSETFROM:+1200
TZOFFSETTO:+1300
RDATE:20260927T020000
RDATE:20270926T020000
END:DAYLIGHT
END:VTIMEZONE
BEGIN:VEVENT
UID:36363332-6633-4463-b036-636331666438
DTSTAMP:20260420T153701Z
CATEGORIES:Other
CLASS:PUBLIC
DESCRIPTION;ALTREP="CID:<FFFF__=0ABBE548DFE235B58f9e8a93d@coffeebean.com>":
 &nbsp\;\nHTC AUCTION (other clubs to be invited)\,\n lunchtime event – ven
 ue still to be decided.\n&nbsp\;\nClear out gear you haven't used for a co
 uple of years\, in aid of a good cause. See ink below\n\n&nbsp\; &nbsp\; &
 nbsp\; &nbsp\; &nbsp\; &nbsp\; &nbsp\; &nbsp\; &nbsp\; &nbsp\; &nbsp\; &nb
 sp\; &nbsp\; &nbsp\; &nbsp\; &nbsp\; &nbsp\; &nbsp\; &nbsp\; &nbsp\; &nbsp
 \; &nbsp\; &nbsp\; &nbsp\; &nbsp\; &nbsp\; &nbsp\; &nbsp\; POET\n&nbsp\; &
 nbsp\; &nbsp\; &nbsp\; &nbsp\; &nbsp\; &nbsp\; &nbsp\; &nbsp\; &nbsp\; &nb
 sp\; &nbsp\; &nbsp\; &nbsp\; &nbsp\; &nbsp\; &nbsp\; &nbsp\; PRESS BACK AR
 ROW TO RETURN TO HTC WEBSITE
DTSTART:20260619T230000Z
DTEND:20260620T023000Z
GEO:00;0
LOCATION:
ORGANIZER;CN=:mailto:lornagribble@gmail.com
SEQUENCE:1
SUMMARY:HTC AUCTION (other clubs to be invited)\, lunchtime event – venue s
 till to be decided.
TRANSP:OPAQUE
URL:https://tramphtc.org.nz/index.php/where-were-going/74-htc-auction-other
 -clubs-to-be-invited-lunchtime-event-venue-still-to-be-decided
END:VEVENT
END:VCALENDAR
