BEGIN:VCALENDAR
VERSION:2.0
PRODID:-//Hamilton Tramping Club//NONSGML kigkonsult.se iCalcreator 2.41.92//
CALSCALE:GREGORIAN
METHOD:PUBLISH
UID:30336661-6432-4162-b338-613136636163
X-WR-CALNAME:iCagenda
X-WR-CALDESC:Event Management Extension for Joomla!
X-WR-RELCALID:3E26604A-50F4-4449-8B3E-E4F4932D05B5
X-WR-TIMEZONE:Pacific/Auckland
BEGIN:VTIMEZONE
TZID:Pacific/Auckland
TZUNTIL:20280401T140000Z
BEGIN:STANDARD
TZNAME:NZST
DTSTART:20260405T030000
TZOFFSETFROM:+1300
TZOFFSETTO:+1200
RDATE:20270404T030000
END:STANDARD
BEGIN:DAYLIGHT
TZNAME:NZDT
DTSTART:20250928T020000
TZOFFSETFROM:+1200
TZOFFSETTO:+1300
RDATE:20260927T020000
RDATE:20270926T020000
END:DAYLIGHT
END:VTIMEZONE
BEGIN:VEVENT
UID:63653330-3533-4333-b438-613466656439
DTSTAMP:20260420T153728Z
CATEGORIES:A Grade
CLASS:PUBLIC
DESCRIPTION;ALTREP="CID:<FFFF__=0ABBE548DFE235B58f9e8a93d@coffeebean.com>":
 &nbsp\;\nTramp Leader : Carl\nCo-leader : Fiona H\n\nBookings start 14 May
  to 8 Jun\n\nMore details to follow\n\nTransport\, $30 Members &amp\; $35 
 Non-members\nIf you are not a member of Hamilton Tramping Club and would l
 ike more Information about our trips please contact the Club Captain Kathy
  Old on 027 815 3212\n&nbsp\;
DTSTART:20260613T193000Z
DTEND:20260614T060000Z
GEO:00;0
LOCATION:
ORGANIZER;CN=:mailto:mosclanz@gmail.com
SEQUENCE:1
SUMMARY:Tramp 1369 - 14 JUN\, Sainsbury Road  – an alternative route - foll
 ow the Te Awamutu town water supply track\,  Grade A.
TRANSP:OPAQUE
URL:https://tramphtc.org.nz/index.php/where-were-going/73-tramp-1369-14-jun
 -sainsbury-road-an-alternative-route-follow-the-te-awamutu-town-water-supp
 ly-track-grade-a
END:VEVENT
END:VCALENDAR
