BEGIN:VCALENDAR
VERSION:2.0
PRODID:-//Hamilton Tramping Club//NONSGML kigkonsult.se iCalcreator 2.41.92//
CALSCALE:GREGORIAN
METHOD:PUBLISH
UID:30303430-3862-4665-b831-636531363537
X-WR-CALNAME:iCagenda
X-WR-CALDESC:Event Management Extension for Joomla!
X-WR-RELCALID:3E26604A-50F4-4449-8B3E-E4F4932D05B5
X-WR-TIMEZONE:Pacific/Auckland
BEGIN:VTIMEZONE
TZID:Pacific/Auckland
TZUNTIL:20280401T140000Z
BEGIN:STANDARD
TZNAME:NZST
DTSTART:20260405T030000
TZOFFSETFROM:+1300
TZOFFSETTO:+1200
RDATE:20270404T030000
END:STANDARD
BEGIN:DAYLIGHT
TZNAME:NZDT
DTSTART:20250928T020000
TZOFFSETFROM:+1200
TZOFFSETTO:+1300
RDATE:20260927T020000
RDATE:20270926T020000
END:DAYLIGHT
END:VTIMEZONE
BEGIN:VEVENT
UID:35656565-3865-4965-a232-623532313366
DTSTAMP:20260420T135114Z
CATEGORIES:A Grade
CLASS:PUBLIC
DESCRIPTION;ALTREP="CID:<FFFF__=0ABBE548DFE235B58f9e8a93d@coffeebean.com>":
 &nbsp\;\nTramp Leader : Kathy O\nCo-leader : Cate\n\nBookings start&nbsp\;
  30 Apr to 25 May\n\nMore details to follow\n\nTransport\, $30 pp per day 
 (NM $35) + accom costs for 2 nights.\nIf you are not a member of Hamilton 
 Tramping Club and would like more Information about our trips please conta
 ct the Club Captain Kathy Old on 027 815 3212\n&nbsp\;
DTSTART:20260529T193000Z
DTEND:20260601T060000Z
GEO:00;0
LOCATION:
ORGANIZER;CN=:mailto:kathyoldgirl@gmail.com
SEQUENCE:1
SUMMARY:Tramp 1368 - 30 May - 1 June\, KING’S BIRTHDAY – Taumarunui  - walk
 s to suit all $30 pp per day (NM $35)  + accom  costs for 2 nights. Grade 
 A
TRANSP:OPAQUE
URL:https://tramphtc.org.nz/index.php/where-were-going/72-tramp-1368-30-may
 -1-june-king-s-birthday-taumarunui-walks-to-suit-all-30-pp-per-day-nm-35-a
 ccom-costs-for-2-nights-grade-a
END:VEVENT
END:VCALENDAR
