BEGIN:VCALENDAR
VERSION:2.0
PRODID:-//Hamilton Tramping Club//NONSGML kigkonsult.se iCalcreator 2.41.92//
CALSCALE:GREGORIAN
METHOD:PUBLISH
UID:61663435-3239-4233-b938-326233663135
X-WR-CALNAME:iCagenda
X-WR-CALDESC:Event Management Extension for Joomla!
X-WR-RELCALID:3E26604A-50F4-4449-8B3E-E4F4932D05B5
X-WR-TIMEZONE:Pacific/Auckland
BEGIN:VTIMEZONE
TZID:Pacific/Auckland
TZUNTIL:20280401T140000Z
BEGIN:STANDARD
TZNAME:NZST
DTSTART:20260405T030000
TZOFFSETFROM:+1300
TZOFFSETTO:+1200
RDATE:20270404T030000
END:STANDARD
BEGIN:DAYLIGHT
TZNAME:NZDT
DTSTART:20250928T020000
TZOFFSETFROM:+1200
TZOFFSETTO:+1300
RDATE:20260927T020000
RDATE:20270926T020000
END:DAYLIGHT
END:VTIMEZONE
BEGIN:VEVENT
UID:61636161-3137-4162-b334-366534343131
DTSTAMP:20260420T134044Z
CATEGORIES:Other
CLASS:PUBLIC
DESCRIPTION;ALTREP="CID:<FFFF__=0ABBE548DFE235B58f9e8a93d@coffeebean.com>":
 Hamilton Tramping Club AGM Mon 18 May\nat the Te Rapa Tavern -45 Sunshine 
 Avenue\, Te Rapa\, Hamilton 3200\n&nbsp\;\nProcedures start at 7pm. If you
  can make it earlier treat yourself to meal\n&nbsp\;\nPartners welcome.\n&
 nbsp\;\nJanice and Kathy will provide the entertainment
DTSTART:20260518T070000Z
DTEND:20260518T090000Z
GEO:00;0
LOCATION:
ORGANIZER;CN=:mailto:iankindred1@gmail.com
SEQUENCE:1
SUMMARY:18 MAY - AGM – Te Rapa Tavern\, 7 pm
TRANSP:OPAQUE
URL:https://tramphtc.org.nz/index.php/where-were-going/71-18-may-agm-te-rap
 a-tavern-7-pm
END:VEVENT
END:VCALENDAR
