BEGIN:VCALENDAR
VERSION:2.0
PRODID:-//Hamilton Tramping Club//NONSGML kigkonsult.se iCalcreator 2.41.92//
CALSCALE:GREGORIAN
METHOD:PUBLISH
UID:34646439-6336-4636-a131-393030626262
X-WR-CALNAME:iCagenda
X-WR-CALDESC:Event Management Extension for Joomla!
X-WR-RELCALID:3E26604A-50F4-4449-8B3E-E4F4932D05B5
X-WR-TIMEZONE:Pacific/Auckland
BEGIN:VTIMEZONE
TZID:Pacific/Auckland
TZUNTIL:20280401T140000Z
BEGIN:STANDARD
TZNAME:NZST
DTSTART:20260405T030000
TZOFFSETFROM:+1300
TZOFFSETTO:+1200
RDATE:20270404T030000
END:STANDARD
BEGIN:DAYLIGHT
TZNAME:NZDT
DTSTART:20250928T020000
TZOFFSETFROM:+1200
TZOFFSETTO:+1300
RDATE:20260927T020000
RDATE:20270926T020000
END:DAYLIGHT
END:VTIMEZONE
BEGIN:VEVENT
UID:35306139-3966-4331-b862-336532303035
DTSTAMP:20260420T140511Z
CATEGORIES:A Grade
CLASS:PUBLIC
DESCRIPTION;ALTREP="CID:<FFFF__=0ABBE548DFE235B58f9e8a93d@coffeebean.com>":
 &nbsp\;\nTramp Leader : Ali R\nCo-leader : Fiona G\n\nBookings start 17 Ap
 r to 11 May\n\nMore details to follow\n\nTransport\, $30 Members &amp\; $3
 5 Non-members&nbsp\;+ bring extra for Rhubarb Cafe.\nIf you are not a memb
 er of Hamilton Tramping Club and would like more Information about our tri
 ps please contact the Club Captain Kathy Old on 027 815 3212\n&nbsp\;
DTSTART:20260516T193000Z
DTEND:20260517T060000Z
GEO:00;0
LOCATION:
ORGANIZER;CN=:mailto:ali.k.ryan@gmail.com
SEQUENCE:1
SUMMARY:Tramp 1367 - 17 MAY\, Jim Barnett Reserve + Jones Landing to Little
  Waipa Reserve. Grade A
TRANSP:OPAQUE
URL:https://tramphtc.org.nz/index.php/where-were-going/70-tramp-1367-17-may
 -jim-barnett-reserve-jones-landing-to-little-waipa-reserve-grade-a
END:VEVENT
END:VCALENDAR
