BEGIN:VCALENDAR
VERSION:2.0
PRODID:-//Hamilton Tramping Club//NONSGML kigkonsult.se iCalcreator 2.41.92//
CALSCALE:GREGORIAN
METHOD:PUBLISH
UID:63386438-3536-4264-b833-373962346565
X-WR-CALNAME:iCagenda
X-WR-CALDESC:Event Management Extension for Joomla!
X-WR-RELCALID:3E26604A-50F4-4449-8B3E-E4F4932D05B5
X-WR-TIMEZONE:Pacific/Auckland
BEGIN:VTIMEZONE
TZID:Pacific/Auckland
TZUNTIL:20280401T140000Z
BEGIN:STANDARD
TZNAME:NZST
DTSTART:20260405T030000
TZOFFSETFROM:+1300
TZOFFSETTO:+1200
RDATE:20270404T030000
END:STANDARD
BEGIN:DAYLIGHT
TZNAME:NZDT
DTSTART:20250928T020000
TZOFFSETFROM:+1200
TZOFFSETTO:+1300
RDATE:20260927T020000
RDATE:20270926T020000
END:DAYLIGHT
END:VTIMEZONE
BEGIN:VEVENT
UID:34666338-6133-4035-a631-623531363237
DTSTAMP:20260423T134511Z
CATEGORIES:A Grade
CLASS:PUBLIC
DESCRIPTION;ALTREP="CID:<FFFF__=0ABBE548DFE235B58f9e8a93d@coffeebean.com>":
 &nbsp\;\nTramp Leader : Lorna\nCo-leader : Sharon\n\nBookings start 24 Mar
  to 20 Apr\n\nMore details to follow\n\nTransport\, $30 Members &amp\; $35
  Non-members Per person per night + accommodation costs.\nIf you are not a
  member of Hamilton Tramping Club and would like more Information about ou
 r trips please contact the Club Captain Kathy Old on 027 815 3212\n&nbsp\;
DTSTART:20260424T043000Z
DTEND:20260427T060000Z
GEO:00;0
LOCATION:
ORGANIZER;CN=:mailto:lornagribble@gmail.com
SEQUENCE:1
SUMMARY:Tramp 1365 - 24-27 APR\, ANZAC Weekend – Aotuhia Station\, Taranaki
  (drive to Lorna’s Friday night). $30 (NM $35 pp)  + $35 pp pn accommo cos
 ts. Grade A
TRANSP:OPAQUE
URL:https://tramphtc.org.nz/index.php/where-were-going/68-tramp-1365-24-27-
 apr-anzac-weekend-aotuhia-station-taranaki-drive-to-lorna-s-friday-night-3
 0-nm-35-pp-35-pp-pn-accommo-costs-grade-a
END:VEVENT
END:VCALENDAR
