BEGIN:VCALENDAR
VERSION:2.0
PRODID:-//Hamilton Tramping Club//NONSGML kigkonsult.se iCalcreator 2.41.92//
CALSCALE:GREGORIAN
METHOD:PUBLISH
UID:39393064-6436-4437-a166-323662323936
X-WR-CALNAME:iCagenda
X-WR-CALDESC:Event Management Extension for Joomla!
X-WR-RELCALID:3E26604A-50F4-4449-8B3E-E4F4932D05B5
X-WR-TIMEZONE:Pacific/Auckland
BEGIN:VTIMEZONE
TZID:Pacific/Auckland
TZUNTIL:20260404T140000Z
BEGIN:STANDARD
TZNAME:NZST
DTSTART:20240407T030000
TZOFFSETFROM:+1300
TZOFFSETTO:+1200
RDATE:20250406T030000
END:STANDARD
BEGIN:DAYLIGHT
TZNAME:NZDT
DTSTART:20230924T020000
TZOFFSETFROM:+1200
TZOFFSETTO:+1300
RDATE:20240929T020000
RDATE:20250928T020000
END:DAYLIGHT
END:VTIMEZONE
BEGIN:VEVENT
UID:35326134-3135-4631-b763-363436613535
DTSTAMP:20260420T222435Z
CATEGORIES:A Grade
CLASS:PUBLIC
DESCRIPTION;ALTREP="CID:<FFFF__=0ABBE548DFE235B58f9e8a93d@coffeebean.com>":
 We are aiming to access the Hakarimata Summit Tower via a different route\
 , but expect an uphill and then a downhill.  Expect to walk 5-6 hours toda
 y.  Join your trip leader Lorna and co-leader Clare for an interesting day
  out.\nBookings open 11 July and close 4 August.
DTSTART:20240810T120000Z
DTEND:20240810T120000Z
GEO:00;0
LOCATION:
ORGANIZER;CN=:mailto:lornagribble@gmail.com
SEQUENCE:1
SUMMARY:Trip 1311  :  Southern Hakarimata Loop Walk  :  11 August 2024 (Gra
 de A)
TRANSP:OPAQUE
URL:https://tramphtc.org.nz/index.php/component/icagenda/9-trip-1311-southe
 rn-hakarimata-loop-walk-11-august-2024-grade-a
END:VEVENT
END:VCALENDAR
