BEGIN:VCALENDAR
VERSION:2.0
PRODID:-//Hamilton Tramping Club//NONSGML kigkonsult.se iCalcreator 2.41.92//
CALSCALE:GREGORIAN
METHOD:PUBLISH
UID:35343064-3331-4236-a238-343562623065
X-WR-CALNAME:iCagenda
X-WR-CALDESC:Event Management Extension for Joomla!
X-WR-RELCALID:3E26604A-50F4-4449-8B3E-E4F4932D05B5
X-WR-TIMEZONE:Pacific/Auckland
BEGIN:VTIMEZONE
TZID:Pacific/Auckland
TZUNTIL:20260404T140000Z
BEGIN:STANDARD
TZNAME:NZST
DTSTART:20240407T030000
TZOFFSETFROM:+1300
TZOFFSETTO:+1200
RDATE:20250406T030000
END:STANDARD
BEGIN:DAYLIGHT
TZNAME:NZDT
DTSTART:20230924T020000
TZOFFSETFROM:+1200
TZOFFSETTO:+1300
RDATE:20240929T020000
RDATE:20250928T020000
END:DAYLIGHT
END:VTIMEZONE
BEGIN:VEVENT
UID:65653164-6331-4130-b934-316433643838
DTSTAMP:20260420T204147Z
CATEGORIES:A Grade
CLASS:PUBLIC
DESCRIPTION;ALTREP="CID:<FFFF__=0ABBE548DFE235B58f9e8a93d@coffeebean.com>":
 Hopefully we get in before lambing season (1 August) but we will keep an e
 ye on the DOC website.  The plan is to walk one way (i.e.\, not a loop wal
 k) and get picked up at the end.  Expect to walk 5 hours one way.  “Superb
  360 degree views and impressive limestone bluffs are features of this wal
 k... This walkway provides an opportunity to walk over farmland with sheep
 \, cattle and goats close at hand.”  We will need to keep to the marked tr
 ack at all times.  Ask Christine and Carl why this walk is called the ‘Fou
 r Brothers’.\n(This Tramp is now fully booked)
DTSTART:20240727T120000Z
DTEND:20240727T120000Z
GEO:00;0
LOCATION:
ORGANIZER;CN=:mailto:dolphin2222@hotmail.com
SEQUENCE:1
SUMMARY:Trip 1310  : (Fully Booked) Four Brothers/Karamu via Hillary Hope  
 :  28 July 2024 (Grade A)
TRANSP:OPAQUE
URL:https://tramphtc.org.nz/index.php/component/icagenda/8-trip-1310-four-b
 rothers-karamea-via-hiliary-hope-28-july-2024-grade-a
END:VEVENT
END:VCALENDAR
