BEGIN:VCALENDAR
VERSION:2.0
PRODID:-//Hamilton Tramping Club//NONSGML kigkonsult.se iCalcreator 2.41.92//
CALSCALE:GREGORIAN
METHOD:PUBLISH
UID:33386233-3036-4361-a565-373338313562
X-WR-CALNAME:iCagenda
X-WR-CALDESC:Event Management Extension for Joomla!
X-WR-RELCALID:3E26604A-50F4-4449-8B3E-E4F4932D05B5
X-WR-TIMEZONE:Pacific/Auckland
BEGIN:VTIMEZONE
TZID:Pacific/Auckland
TZUNTIL:20260404T140000Z
BEGIN:STANDARD
TZNAME:NZST
DTSTART:20240407T030000
TZOFFSETFROM:+1300
TZOFFSETTO:+1200
RDATE:20250406T030000
END:STANDARD
BEGIN:DAYLIGHT
TZNAME:NZDT
DTSTART:20230924T020000
TZOFFSETFROM:+1200
TZOFFSETTO:+1300
RDATE:20240929T020000
RDATE:20250928T020000
END:DAYLIGHT
END:VTIMEZONE
BEGIN:VEVENT
UID:38643064-6261-4438-a535-316332653035
DTSTAMP:20260420T204019Z
CATEGORIES:A Grade
CLASS:PUBLIC
DESCRIPTION;ALTREP="CID:<FFFF__=0ABBE548DFE235B58f9e8a93d@coffeebean.com>":
 This is a nice and easy walk\, but very scenic too.  Join up early for our
  Open Day - we especially welcome newbies to come out with us.  Its been a
  couple of years since we’ve been to Carter’s Beach.   Expect to see some 
 unsually shaped pancake rock formations protruding out to the sea\, and th
 e most amazing large slabs of rock which I have only seen at Carter’s Beac
 h.  Keep an eye out for crabs!  Join Ian as trip leader and Kathy as co-le
 ader. \nBookings open 14 June and close 7 July.
DTSTART:20240713T120000Z
DTEND:20240713T120000Z
GEO:00;0
LOCATION:
ORGANIZER;CN=:mailto:iankindred1@gmail.com
SEQUENCE:1
SUMMARY:Trip 1309 :  Carter’s Beach :  14 July 2024 (Grade A) 
TRANSP:OPAQUE
URL:https://tramphtc.org.nz/index.php/component/icagenda/7-event-trip-1309-
 carter-s-beach-14-july-2024-grade-a
END:VEVENT
END:VCALENDAR
