BEGIN:VCALENDAR
VERSION:2.0
PRODID:-//Hamilton Tramping Club//NONSGML kigkonsult.se iCalcreator 2.41.92//
CALSCALE:GREGORIAN
METHOD:PUBLISH
UID:32306331-6262-4135-a133-636562313262
X-WR-CALNAME:iCagenda
X-WR-CALDESC:Event Management Extension for Joomla!
X-WR-RELCALID:3E26604A-50F4-4449-8B3E-E4F4932D05B5
X-WR-TIMEZONE:Pacific/Auckland
BEGIN:VTIMEZONE
TZID:Pacific/Auckland
TZUNTIL:20280401T140000Z
BEGIN:STANDARD
TZNAME:NZST
DTSTART:20250406T030000
TZOFFSETFROM:+1300
TZOFFSETTO:+1200
RDATE:20260405T030000
RDATE:20270404T030000
END:STANDARD
BEGIN:DAYLIGHT
TZNAME:NZDT
DTSTART:20250928T020000
TZOFFSETFROM:+1200
TZOFFSETTO:+1300
RDATE:20260927T020000
RDATE:20270926T020000
END:DAYLIGHT
END:VTIMEZONE
BEGIN:VEVENT
UID:30666163-6333-4430-b535-336531626436
DTSTAMP:20260420T171228Z
CATEGORIES:A Grade
CLASS:PUBLIC
DESCRIPTION;ALTREP="CID:<FFFF__=0ABBE548DFE235B58f9e8a93d@coffeebean.com>":
 Tramp Leader : Kathy O\nCo-leader : Lynne\n&nbsp\;\nBookings start 29 Feb 
 to 23 Mar\nWe have the lovely Ian Hardy of Raglan Harbour Cruises who will
  pick us up around 9 am (in Raglan) and take us over to the other side of 
 the bay - to Te Akau.&nbsp\; Unfortunately it will take a bit more researc
 h to gain access for an inland walk - but Ian tells me that we can walk ar
 ound the beach to Mussel Rock\, explore and have lunch and be back at 2 pm
  for pick-up.&nbsp\; Tide shouldn't matter I've been told but for those th
 at need to know - high tide is 8.29 am\, low tide 2.46 pm so we might get 
 our feet wet in the beginning but not at the end.&nbsp\;&nbsp\;\nCost is $
 15 pp for the boat.&nbsp\; The boat holds only 12 and we already have 5 in
  the boat\, so will take another&nbsp\;6.&nbsp\;&nbsp\;\nTransport cost - 
 we can either catch the bus\, take the car or a van $30-$35.&nbsp\; Will d
 ecide closer to the time.&nbsp\; But it shouldn't cost more than $20 pp fo
 r transport by car/bus..&nbsp\;&nbsp\;\nIt will be a nice relaxing day out
 .&nbsp\; Bring your lunch\, water\, snacks etc.&nbsp\; If its a hot day\, 
 we can go for a dip in the water.&nbsp\;&nbsp\;\nCall me on 027 815 3212 a
 fter business hours\, better still register via our website.&nbsp\; First 
 in - first served.\nCheers Kathy
DTSTART:20260328T183000Z
DTEND:20260329T053000Z
GEO:00;0
LOCATION:
ORGANIZER;CN=:mailto:kathyoldgirl@gmail.com
SEQUENCE:1
SUMMARY:Tramp 1361 - 29 MAR\, Raglan Day out – catch the boat to Te Akau\, 
 tide dependent.  Back-up walks just in case.  $30 pp per day (NM$35) + $15
  boat cost
TRANSP:OPAQUE
URL:https://tramphtc.org.nz/index.php/component/icagenda/64-tramp-1361-29-m
 ar-raglan-day-out-catch-the-boat-to-te-akau-tide-dependent-back-up-walks-j
 ust-in-case-30-pp-per-day-nm-35-boat-cost
END:VEVENT
END:VCALENDAR
