BEGIN:VCALENDAR
VERSION:2.0
PRODID:-//Hamilton Tramping Club//NONSGML kigkonsult.se iCalcreator 2.41.92//
CALSCALE:GREGORIAN
METHOD:PUBLISH
UID:36366163-3830-4531-b633-316634373631
X-WR-CALNAME:iCagenda
X-WR-CALDESC:Event Management Extension for Joomla!
X-WR-RELCALID:3E26604A-50F4-4449-8B3E-E4F4932D05B5
X-WR-TIMEZONE:Pacific/Auckland
BEGIN:VTIMEZONE
TZID:Pacific/Auckland
TZUNTIL:20270925T140000Z
BEGIN:STANDARD
TZNAME:NZST
DTSTART:20250406T030000
TZOFFSETFROM:+1300
TZOFFSETTO:+1200
RDATE:20260405T030000
RDATE:20270404T030000
END:STANDARD
BEGIN:DAYLIGHT
TZNAME:NZDT
DTSTART:20250928T020000
TZOFFSETFROM:+1200
TZOFFSETTO:+1300
RDATE:20260927T020000
END:DAYLIGHT
END:VTIMEZONE
BEGIN:VEVENT
UID:37333239-3036-4535-a536-653633323961
DTSTAMP:20260420T171157Z
CATEGORIES:B Grade
CLASS:PUBLIC
DESCRIPTION;ALTREP="CID:<FFFF__=0ABBE548DFE235B58f9e8a93d@coffeebean.com>":
 Tramp Leader : Ali R\nCo-leader : Christine L\n\nBookings start Feb 1 to 9
  Mar\n\nMore details to follow\n\nTransport\,&nbsp\;$30 pp per day (NM $35
 ) + shuttle/accommodation costs\nIf you are not a member of Hamilton Tramp
 ing Club and would like more Information about our trips please contact th
 e Club Captain Kathy Old on 027 815 3212
DTSTART:20260313T030000Z
DTEND:20260315T070000Z
GEO:00;0
LOCATION:
ORGANIZER;CN=:mailto:ali.k.ryan@gmail.com
SEQUENCE:1
SUMMARY:Tramp 1360 - 13-15 MAR\, Tongariro Crossing – MEMBERS ONLY (drive d
 own Friday night)\, $30 pp per day (NM $35) + shuttle/accommodation costs.
  Grade B
TRANSP:OPAQUE
URL:https://tramphtc.org.nz/index.php/component/icagenda/63-tramp-1360-13-1
 5-mar-tongariro-crossing-members-only-drive-down-friday-night-30-pp-per-da
 y-nm-35-shuttle-accommodation-costs-grade-b
END:VEVENT
END:VCALENDAR
