BEGIN:VCALENDAR
VERSION:2.0
PRODID:-//Hamilton Tramping Club//NONSGML kigkonsult.se iCalcreator 2.41.92//
CALSCALE:GREGORIAN
METHOD:PUBLISH
UID:33313461-6661-4135-b563-623330663266
X-WR-CALNAME:iCagenda
X-WR-CALDESC:Event Management Extension for Joomla!
X-WR-RELCALID:3E26604A-50F4-4449-8B3E-E4F4932D05B5
X-WR-TIMEZONE:Pacific/Auckland
BEGIN:VTIMEZONE
TZID:Pacific/Auckland
TZUNTIL:20270925T140000Z
BEGIN:STANDARD
TZNAME:NZST
DTSTART:20250406T030000
TZOFFSETFROM:+1300
TZOFFSETTO:+1200
RDATE:20260405T030000
RDATE:20270404T030000
END:STANDARD
BEGIN:DAYLIGHT
TZNAME:NZDT
DTSTART:20250928T020000
TZOFFSETFROM:+1200
TZOFFSETTO:+1300
RDATE:20260927T020000
END:DAYLIGHT
END:VTIMEZONE
BEGIN:VEVENT
UID:61636534-6161-4363-b431-396139366437
DTSTAMP:20260420T171157Z
CATEGORIES:A Grade
CLASS:PUBLIC
DESCRIPTION;ALTREP="CID:<FFFF__=0ABBE548DFE235B58f9e8a93d@coffeebean.com>":
 &nbsp\;\nTramp Leader : Kevin\nCo-leader : Lynne\n\nBookings start 1 Feb t
 o 2 Mar\n\nMore details to follow\n\nTransport\, $30 Members &amp\; $35 No
 n-members / plus cost for boat trip/ferry\nIf you are not a member of Hami
 lton Tramping Club and would like more Information about our trips please 
 contact the Club Captain Kathy Old on 027 815 3212\n&nbsp\;
DTSTART:20260307T183000Z
DTEND:20260308T050000Z
GEO:00;0
LOCATION:
ORGANIZER;CN=:mailto:kevin.bailey@outlook.co.nz
SEQUENCE:1
SUMMARY:Tramp 1359 - 8 MAR\, Te Maika Peninsula\, Kawhia by boat $30 (NM $3
 5) + boat cost. Grade A
TRANSP:OPAQUE
URL:https://tramphtc.org.nz/index.php/component/icagenda/62-tramp-1359-8-ma
 r-te-maika-peninsula-kawhia-by-boat-30-nm-35-boat-cost-grade-a
END:VEVENT
END:VCALENDAR
