BEGIN:VCALENDAR
VERSION:2.0
PRODID:-//Hamilton Tramping Club//NONSGML kigkonsult.se iCalcreator 2.41.92//
CALSCALE:GREGORIAN
METHOD:PUBLISH
UID:32636164-3363-4964-b461-653634353734
X-WR-CALNAME:iCagenda
X-WR-CALDESC:Event Management Extension for Joomla!
X-WR-RELCALID:3E26604A-50F4-4449-8B3E-E4F4932D05B5
X-WR-TIMEZONE:Pacific/Auckland
BEGIN:VTIMEZONE
TZID:Pacific/Auckland
TZUNTIL:20270925T140000Z
BEGIN:STANDARD
TZNAME:NZST
DTSTART:20250406T030000
TZOFFSETFROM:+1300
TZOFFSETTO:+1200
RDATE:20260405T030000
RDATE:20270404T030000
END:STANDARD
BEGIN:DAYLIGHT
TZNAME:NZDT
DTSTART:20250928T020000
TZOFFSETFROM:+1200
TZOFFSETTO:+1300
RDATE:20260927T020000
END:DAYLIGHT
END:VTIMEZONE
BEGIN:VEVENT
UID:62303464-3035-4163-b038-623832623739
DTSTAMP:20260420T185709Z
CATEGORIES:A Grade
CLASS:PUBLIC
DESCRIPTION;ALTREP="CID:<FFFF__=0ABBE548DFE235B58f9e8a93d@coffeebean.com>":
 &nbsp\;\nTramp Leader : Lorna\nCo-leader : Grant &amp\; Wendy\n&nbsp\;\nBo
 okings start 22 Jan to 16 Feb\n&nbsp\;\nWe park at the end of Puriri Valle
 y Road. We start the walk on a logging road\, later it becomes an old unus
 ed logging road with vegetation encroaching.&nbsp\;\n&nbsp\;During the wal
 k we cross the Apakura stream several times. There are smaller side creeks
  we also cross\, some steep sections\, some tricky bits needing care such 
 as one creek crossing above a small waterfall.&nbsp\;\nNearer the top of t
 he walk we encounter large pampas\, long sleeves may offer protection. Eve
 ntually we reach the kauri slab hut known as Champion hut\, which is on pr
 ivate Maori land. All up it's about 7km one way\, with an elevation gain o
 f about 550m.\n&nbsp\;\n\n&nbsp\;\n&nbsp\;\nTransport\, $30 Members &amp\;
  $35 Non-members\nIf you are not a member of Hamilton Tramping Club and wo
 uld like more Information about our trips please contact the Club Captain 
 Kathy Old on 027 815 3212\n&nbsp\;
DTSTART:20260221T183000Z
DTEND:20260222T050000Z
GEO:00;0
LOCATION:
ORGANIZER;CN=:mailto:lornagribble@gmail.com
SEQUENCE:1
SUMMARY:Tramp 1358 - 22 FEB\, Champion Hut\, South of Thames  Grade A
TRANSP:OPAQUE
URL:https://tramphtc.org.nz/index.php/component/icagenda/61-tramp-1358-22-f
 eb-champion-hut-south-of-thames-grade-a
END:VEVENT
END:VCALENDAR
