BEGIN:VCALENDAR
VERSION:2.0
PRODID:-//Hamilton Tramping Club//NONSGML kigkonsult.se iCalcreator 2.41.92//
CALSCALE:GREGORIAN
METHOD:PUBLISH
UID:61356235-3233-4963-b936-326264313634
X-WR-CALNAME:iCagenda
X-WR-CALDESC:Event Management Extension for Joomla!
X-WR-RELCALID:3E26604A-50F4-4449-8B3E-E4F4932D05B5
X-WR-TIMEZONE:Pacific/Auckland
BEGIN:VTIMEZONE
TZID:Pacific/Auckland
TZUNTIL:20270925T140000Z
BEGIN:STANDARD
TZNAME:NZST
DTSTART:20250406T030000
TZOFFSETFROM:+1300
TZOFFSETTO:+1200
RDATE:20260405T030000
RDATE:20270404T030000
END:STANDARD
BEGIN:DAYLIGHT
TZNAME:NZDT
DTSTART:20250928T020000
TZOFFSETFROM:+1200
TZOFFSETTO:+1300
RDATE:20260927T020000
END:DAYLIGHT
END:VTIMEZONE
BEGIN:VEVENT
UID:63313130-3865-4330-b962-383537336634
DTSTAMP:20260420T185841Z
CATEGORIES:A Grade
CLASS:PUBLIC
DESCRIPTION;ALTREP="CID:<FFFF__=0ABBE548DFE235B58f9e8a93d@coffeebean.com>":
 &nbsp\;\nTramp Leader : Kathy O\nCo-leader : Ali R\n\nBookings start 8 Jan
  to 2 Feb\n\nMore details to follow\n\nTransport\, $30 Members &amp\; $35 
 Non-members\nIf you are not a member of Hamilton Tramping Club and would l
 ike more Information about our trips please contact the Club Captain Kathy
  Old on 027 815 3212\n&nbsp\;
DTSTART:20260207T183000Z
DTEND:20260208T050000Z
GEO:00;0
LOCATION:
ORGANIZER;CN=:mailto:kathyoldgirl@gmail.com
SEQUENCE:1
SUMMARY:Tramp 1357 - 8 FEB\, WAITANGI WEEKEND – OPEN DAY - Sunday only - Wa
 ihi Beach and walks.  Grade A
TRANSP:OPAQUE
URL:https://tramphtc.org.nz/index.php/component/icagenda/60-tramp-1357-8-fe
 b-waitangi-weekend-open-day-sunday-only-waihi-beach-and-walks-grade-a
END:VEVENT
END:VCALENDAR
