BEGIN:VCALENDAR
VERSION:2.0
PRODID:-//Hamilton Tramping Club//NONSGML kigkonsult.se iCalcreator 2.41.92//
CALSCALE:GREGORIAN
METHOD:PUBLISH
UID:35633735-6530-4962-a165-373339373137
X-WR-CALNAME:iCagenda
X-WR-CALDESC:Event Management Extension for Joomla!
X-WR-RELCALID:3E26604A-50F4-4449-8B3E-E4F4932D05B5
X-WR-TIMEZONE:Pacific/Auckland
BEGIN:VTIMEZONE
TZID:Pacific/Auckland
TZUNTIL:20270925T140000Z
BEGIN:STANDARD
TZNAME:NZST
DTSTART:20250406T030000
TZOFFSETFROM:+1300
TZOFFSETTO:+1200
RDATE:20260405T030000
RDATE:20270404T030000
END:STANDARD
BEGIN:DAYLIGHT
TZNAME:NZDT
DTSTART:20250928T020000
TZOFFSETFROM:+1200
TZOFFSETTO:+1300
RDATE:20260927T020000
END:DAYLIGHT
END:VTIMEZONE
BEGIN:VEVENT
UID:66656430-3564-4966-b538-373266643865
DTSTAMP:20260420T203403Z
CATEGORIES:C Grade
CLASS:PUBLIC
DESCRIPTION;ALTREP="CID:<FFFF__=0ABBE548DFE235B58f9e8a93d@coffeebean.com>":
 &nbsp\;\nTramp Leader : Michiel\nCo-leader : Wendy\n\nBookings start 18 De
 c to 19 Jan\n\nMore details to follow\n\nTransport costs to be confirmed. 
 Probably personal transport\nIf you are not a member of Hamilton Tramping 
 Club and would like more Information about our trips please contact the Cl
 ub Captain Kathy Old on 027 815 3212\n&nbsp\;
DTSTART:20260123T183000Z
DTEND:20260126T050000Z
GEO:00;0
LOCATION:
ORGANIZER;CN=:mailto:michielvd@hotmail.com
SEQUENCE:1
SUMMARY:Tramp 1356 - 24-26 JAN\, AUCKLAND ANNIV – Pirongia Blue Falls\, Bel
 l Track & Vandy Rd\, camping at Central Clearing (2-3 days).   If wet – re
 schedule to Waitangi weekend.  Grade C
TRANSP:OPAQUE
URL:https://tramphtc.org.nz/index.php/component/icagenda/59-tramp-1356-24-2
 6-jan-auckland-anniv-pirongia-blue-falls-bell-track-vandy-rd-camping-at-ce
 ntral-clearing-2-3-days-if-wet-reschedule-to-waitangi-weekend-grade-c
END:VEVENT
END:VCALENDAR
