BEGIN:VCALENDAR
VERSION:2.0
PRODID:-//Hamilton Tramping Club//NONSGML kigkonsult.se iCalcreator 2.41.92//
CALSCALE:GREGORIAN
METHOD:PUBLISH
UID:33366432-3166-4233-b332-356465336432
X-WR-CALNAME:iCagenda
X-WR-CALDESC:Event Management Extension for Joomla!
X-WR-RELCALID:3E26604A-50F4-4449-8B3E-E4F4932D05B5
X-WR-TIMEZONE:Pacific/Auckland
BEGIN:VTIMEZONE
TZID:Pacific/Auckland
TZUNTIL:20270925T140000Z
BEGIN:STANDARD
TZNAME:NZST
DTSTART:20250406T030000
TZOFFSETFROM:+1300
TZOFFSETTO:+1200
RDATE:20260405T030000
RDATE:20270404T030000
END:STANDARD
BEGIN:DAYLIGHT
TZNAME:NZDT
DTSTART:20250928T020000
TZOFFSETFROM:+1200
TZOFFSETTO:+1300
RDATE:20260927T020000
END:DAYLIGHT
END:VTIMEZONE
BEGIN:VEVENT
UID:30306134-3631-4839-b930-306332633835
DTSTAMP:20260420T203256Z
CATEGORIES:B Grade
CLASS:PUBLIC
DESCRIPTION;ALTREP="CID:<FFFF__=0ABBE548DFE235B58f9e8a93d@coffeebean.com>":
 &nbsp\;\nTramp Leader : Ian\nCo-leader : Carl\n&nbsp\;\nBookings start 18 
 Dec to 12 Jan\n&nbsp\;\nThis is a tough started for the New Year to burn o
 ff some of the Christmas Cheer. Should be an 8+ hour Tramp\nI weather is r
 eally hot \, the tramp could be a little shorter\n&nbsp\;\nTransport\, $30
  Members &amp\; $35 Non-members\nIf you are not a member of Hamilton Tramp
 ing Club and would like more Information about our trips please contact th
 e Club Captain Kathy Old on 027 815 3212
DTSTART:20260117T183000Z
DTEND:20260118T050000Z
GEO:00;0
LOCATION:
ORGANIZER;CN=:mailto:iankindred1@gmail.com
SEQUENCE:1
SUMMARY:Tramp 1355 - JAN 18\, Mangakino Pack Track to Franklin Road /Grade 
 B
TRANSP:OPAQUE
URL:https://tramphtc.org.nz/index.php/component/icagenda/58-tramp-1355-jan-
 18-mangakino-pack-track-to-franklin-road-grade-b
END:VEVENT
END:VCALENDAR
