BEGIN:VCALENDAR
VERSION:2.0
PRODID:-//Hamilton Tramping Club//NONSGML kigkonsult.se iCalcreator 2.41.92//
CALSCALE:GREGORIAN
METHOD:PUBLISH
UID:33386132-3763-4435-b930-636235326331
X-WR-CALNAME:iCagenda
X-WR-CALDESC:Event Management Extension for Joomla!
X-WR-RELCALID:3E26604A-50F4-4449-8B3E-E4F4932D05B5
X-WR-TIMEZONE:Pacific/Auckland
BEGIN:VTIMEZONE
TZID:Pacific/Auckland
TZUNTIL:20270925T140000Z
BEGIN:STANDARD
TZNAME:NZST
DTSTART:20250406T030000
TZOFFSETFROM:+1300
TZOFFSETTO:+1200
RDATE:20260405T030000
RDATE:20270404T030000
END:STANDARD
BEGIN:DAYLIGHT
TZNAME:NZDT
DTSTART:20250928T020000
TZOFFSETFROM:+1200
TZOFFSETTO:+1300
RDATE:20260927T020000
END:DAYLIGHT
END:VTIMEZONE
BEGIN:VEVENT
UID:35373330-3562-4833-b736-313437383337
DTSTAMP:20260420T222405Z
CATEGORIES:Other
CLASS:PUBLIC
DESCRIPTION;ALTREP="CID:<FFFF__=0ABBE548DFE235B58f9e8a93d@coffeebean.com>":
 Join us for the annual Xmas Hamilton Tramping Club Bun fight\n&nbsp\;\nMor
 e Details on the time and location nearer the date\n&nbsp\;\nOrganised in 
 the safe hands of Janice and Kathy O
DTSTART:20251214T033000Z
DTEND:20251214T073000Z
GEO:00;0
LOCATION:
ORGANIZER;CN=:mailto:Janice_eland@live.com
SEQUENCE:1
SUMMARY:Trip XMAS DEC 14\, Xmas Gathering
TRANSP:OPAQUE
URL:https://tramphtc.org.nz/index.php/component/icagenda/57-trip-xmas-dec-1
 4-xmas-gathering
END:VEVENT
END:VCALENDAR
