BEGIN:VCALENDAR
VERSION:2.0
PRODID:-//Hamilton Tramping Club//NONSGML kigkonsult.se iCalcreator 2.41.92//
CALSCALE:GREGORIAN
METHOD:PUBLISH
UID:66613932-3035-4639-b235-616333633030
X-WR-CALNAME:iCagenda
X-WR-CALDESC:Event Management Extension for Joomla!
X-WR-RELCALID:3E26604A-50F4-4449-8B3E-E4F4932D05B5
X-WR-TIMEZONE:Pacific/Auckland
BEGIN:VTIMEZONE
TZID:Pacific/Auckland
TZUNTIL:20270925T140000Z
BEGIN:STANDARD
TZNAME:NZST
DTSTART:20250406T030000
TZOFFSETFROM:+1300
TZOFFSETTO:+1200
RDATE:20260405T030000
RDATE:20270404T030000
END:STANDARD
BEGIN:DAYLIGHT
TZNAME:NZDT
DTSTART:20250928T020000
TZOFFSETFROM:+1200
TZOFFSETTO:+1300
RDATE:20260927T020000
END:DAYLIGHT
END:VTIMEZONE
BEGIN:VEVENT
UID:32393837-3363-4633-a462-306337363431
DTSTAMP:20260420T222934Z
CATEGORIES:A Grade
CLASS:PUBLIC
DESCRIPTION;ALTREP="CID:<FFFF__=0ABBE548DFE235B58f9e8a93d@coffeebean.com>":
 &nbsp\;\nTramp Leader : Sue S\nCo-leader : Lorna\n&nbsp\;\nBookings start 
 14 Nov to 8 Dec\n&nbsp\;\nMore details to follow\n&nbsp\;\nTransport\, $30
  Members &amp\; $35 Non-members\n&nbsp\;\nIf you are not a member of Hamil
 ton Tramping Club and would like more Information about our trips please c
 ontact the Club Captain Kathy Old on 027 815 3212
DTSTART:20251213T183000Z
DTEND:20251214T073000Z
GEO:00;0
LOCATION:
ORGANIZER;CN=:mailto:k.s.smart@xtra.co.nz
SEQUENCE:1
SUMMARY:Trip 1354 DEC 14\, Koropuku Farm and Gorge Walk (Waitomo) /Grade A
TRANSP:OPAQUE
URL:https://tramphtc.org.nz/index.php/component/icagenda/56-trip-1354-dec-1
 4-koropuku-farm-and-gorge-walk-waitomo-grade-a
END:VEVENT
END:VCALENDAR
