BEGIN:VCALENDAR
VERSION:2.0
PRODID:-//Hamilton Tramping Club//NONSGML kigkonsult.se iCalcreator 2.41.92//
CALSCALE:GREGORIAN
METHOD:PUBLISH
UID:33643430-6430-4133-a438-313332356137
X-WR-CALNAME:iCagenda
X-WR-CALDESC:Event Management Extension for Joomla!
X-WR-RELCALID:3E26604A-50F4-4449-8B3E-E4F4932D05B5
X-WR-TIMEZONE:Pacific/Auckland
BEGIN:VTIMEZONE
TZID:Pacific/Auckland
TZUNTIL:20270925T140000Z
BEGIN:STANDARD
TZNAME:NZST
DTSTART:20250406T030000
TZOFFSETFROM:+1300
TZOFFSETTO:+1200
RDATE:20260405T030000
RDATE:20270404T030000
END:STANDARD
BEGIN:DAYLIGHT
TZNAME:NZDT
DTSTART:20250928T020000
TZOFFSETFROM:+1200
TZOFFSETTO:+1300
RDATE:20260927T020000
END:DAYLIGHT
END:VTIMEZONE
BEGIN:VEVENT
UID:38666662-3164-4137-b763-626665346134
DTSTAMP:20260420T222517Z
CATEGORIES:A Grade
CLASS:PUBLIC
DESCRIPTION;ALTREP="CID:<FFFF__=0ABBE548DFE235B58f9e8a93d@coffeebean.com>":
 &nbsp\;\nTramp Leader : Lorna\nCo-leader&nbsp\; &nbsp\; &nbsp\; &nbsp\;: G
 rant\n&nbsp\;\nThis is a good walk on summer's day\, as we follow the seco
 nd branch of the Tairua River much of the time.&nbsp\;\nI don't&nbsp\;thin
 k you will get across the mainstream without getting&nbsp\;wet feet.&nbsp\
 ;&nbsp\;\nBut we should be able to take a&nbsp\;dip at some stage.&nbsp\;
 \n&nbsp\;\nIt is an in-out track all up about 16km. There are one or two t
 ricky scrambles\,&nbsp\;as we&nbsp\;gain elevation on the walk in.&nbsp\;
 \n&nbsp\;\nThe track was put in by rock climbers\, if we are lucky we may 
 see some in action on the day.&nbsp\;\nThis description&nbsp\;from a rock 
 climbers&nbsp\;website says it is&nbsp\; ' one of the North Island’s premi
 er ‘adventure’ crags.&nbsp\;\n&nbsp\;It is tall\, steep\, and has somethin
 g for everyone – from moderate bolted wombles to hard trad routes.'\n&nbsp
 \;\n&nbsp\;\nTransport\, $30 Members &amp\; $35 Non-members\n&nbsp\;\nIf y
 ou are not a member of Hamilton Tramping Club and would like more Informat
 ion about our trips please contact the Club Captain Kathy Old on 027 815 3
 212
DTSTART:20251206T183000Z
DTEND:20251207T043000Z
GEO:00;0
LOCATION:
ORGANIZER;CN=:mailto:lornagribble@gmail.com
SEQUENCE:1
SUMMARY:Trip 1353 DEC 7\, Tairua Crag /Grade A
TRANSP:OPAQUE
URL:https://tramphtc.org.nz/index.php/component/icagenda/55-trip-1353-dec-7
 -tairua-crag-grade-a
END:VEVENT
END:VCALENDAR
