BEGIN:VCALENDAR
VERSION:2.0
PRODID:-//Hamilton Tramping Club//NONSGML kigkonsult.se iCalcreator 2.41.92//
CALSCALE:GREGORIAN
METHOD:PUBLISH
UID:33633136-3033-4237-b737-346339613739
X-WR-CALNAME:iCagenda
X-WR-CALDESC:Event Management Extension for Joomla!
X-WR-RELCALID:3E26604A-50F4-4449-8B3E-E4F4932D05B5
X-WR-TIMEZONE:Pacific/Auckland
BEGIN:VTIMEZONE
TZID:Pacific/Auckland
TZUNTIL:20270925T140000Z
BEGIN:STANDARD
TZNAME:NZST
DTSTART:20250406T030000
TZOFFSETFROM:+1300
TZOFFSETTO:+1200
RDATE:20260405T030000
RDATE:20270404T030000
END:STANDARD
BEGIN:DAYLIGHT
TZNAME:NZDT
DTSTART:20250928T020000
TZOFFSETFROM:+1200
TZOFFSETTO:+1300
RDATE:20260927T020000
END:DAYLIGHT
END:VTIMEZONE
BEGIN:VEVENT
UID:35303264-3661-4936-a331-323533613433
DTSTAMP:20260420T235857Z
CATEGORIES:B Grade
CLASS:PUBLIC
DESCRIPTION;ALTREP="CID:<FFFF__=0ABBE548DFE235B58f9e8a93d@coffeebean.com>":
 &nbsp\;\nTrip Cancelled&nbsp\; &nbsp\;Due to lack of interest (We hope to 
 put this tramp on again next year)\nTramp Leader : Carl\nCo-leader : Chris
 tine\n&nbsp\;\nBookings start 30 Aug to Nov 7\n&nbsp\;\nMore details to fo
 llow\n&nbsp\;\n&nbsp\;\nTransport &amp\; Accommodation Costs to be confirm
 ed\n&nbsp\;\nIf you are not a member of Hamilton Tramping Club and would l
 ike more Information about our trips please contact the Club Captain Kathy
  Old on 027 815 3212
DTSTART:20251121T010000Z
DTEND:20251124T060000Z
GEO:00;0
LOCATION:
ORGANIZER;CN=:mailto:mosclanz@gmail.com
SEQUENCE:1
SUMMARY:Trip 1352a NOV 21/24 *** CANCELLED *** Cape Brett Hut (B grade) – H
 arder one
TRANSP:OPAQUE
URL:https://tramphtc.org.nz/index.php/component/icagenda/54-trip-1352a-nov-
 21-24-cape-brett-hut-b-grade-harder-one
END:VEVENT
END:VCALENDAR
