BEGIN:VCALENDAR
VERSION:2.0
PRODID:-//Hamilton Tramping Club//NONSGML kigkonsult.se iCalcreator 2.41.92//
CALSCALE:GREGORIAN
METHOD:PUBLISH
UID:34616665-3933-4962-b162-303333336133
X-WR-CALNAME:iCagenda
X-WR-CALDESC:Event Management Extension for Joomla!
X-WR-RELCALID:3E26604A-50F4-4449-8B3E-E4F4932D05B5
X-WR-TIMEZONE:Pacific/Auckland
BEGIN:VTIMEZONE
TZID:Pacific/Auckland
TZUNTIL:20270925T140000Z
BEGIN:STANDARD
TZNAME:NZST
DTSTART:20250406T030000
TZOFFSETFROM:+1300
TZOFFSETTO:+1200
RDATE:20260405T030000
RDATE:20270404T030000
END:STANDARD
BEGIN:DAYLIGHT
TZNAME:NZDT
DTSTART:20250928T020000
TZOFFSETFROM:+1200
TZOFFSETTO:+1300
RDATE:20260927T020000
END:DAYLIGHT
END:VTIMEZONE
BEGIN:VEVENT
UID:38303338-6133-4333-b239-383666363736
DTSTAMP:20260420T235918Z
CATEGORIES:B Grade
CLASS:PUBLIC
DESCRIPTION;ALTREP="CID:<FFFF__=0ABBE548DFE235B58f9e8a93d@coffeebean.com>":
 &nbsp\;\nTramp Leader : Carl\nCo-leader : Chritine\n&nbsp\;\nBookings star
 t 30 AUG to 30 OCT\n&nbsp\;\nEasy walks in the Russell area\, good accommo
 dation.\n&nbsp\;\nTransport &amp\; Accommodation Costs to be confirmed\n&n
 bsp\;\nIf you are not a member of Hamilton Tramping Club and would like mo
 re Information about our trips please contact the Club Captain Kathy Old o
 n 027 815 3212
DTSTART:20251121T020000Z
DTEND:20251124T060000Z
GEO:00;0
LOCATION:
ORGANIZER;CN=:mailto:kathyoldgirl@gmail.com
SEQUENCE:1
SUMMARY:Trip 1352b NOV 21/24 ***CANCELLED*** Cape Brett Hut (B grade) – Gla
 mpers Trip
TRANSP:OPAQUE
URL:https://tramphtc.org.nz/index.php/component/icagenda/53-trip-1352a-nov-
 21-24-cape-brett-hut-b-grade-carl-christine
END:VEVENT
END:VCALENDAR
