BEGIN:VCALENDAR
VERSION:2.0
PRODID:-//Hamilton Tramping Club//NONSGML kigkonsult.se iCalcreator 2.41.92//
CALSCALE:GREGORIAN
METHOD:PUBLISH
UID:31343139-6362-4137-a539-393063666132
X-WR-CALNAME:iCagenda
X-WR-CALDESC:Event Management Extension for Joomla!
X-WR-RELCALID:3E26604A-50F4-4449-8B3E-E4F4932D05B5
X-WR-TIMEZONE:Pacific/Auckland
BEGIN:VTIMEZONE
TZID:Pacific/Auckland
TZUNTIL:20270925T140000Z
BEGIN:STANDARD
TZNAME:NZST
DTSTART:20250406T030000
TZOFFSETFROM:+1300
TZOFFSETTO:+1200
RDATE:20260405T030000
RDATE:20270404T030000
END:STANDARD
BEGIN:DAYLIGHT
TZNAME:NZDT
DTSTART:20250928T020000
TZOFFSETFROM:+1200
TZOFFSETTO:+1300
RDATE:20260927T020000
END:DAYLIGHT
END:VTIMEZONE
BEGIN:VEVENT
UID:36643065-3763-4739-a662-633238333732
DTSTAMP:20260421T015226Z
CATEGORIES:A Grade
CLASS:PUBLIC
DESCRIPTION;ALTREP="CID:<FFFF__=0ABBE548DFE235B58f9e8a93d@coffeebean.com>":
 &nbsp\;\nLeaders Anna and Michiel\n&nbsp\;\nBookings start 9 Oct to 3 Nov
 \n&nbsp\;\nDrive 2hrs to start of track at the end of Speedies Rd\, off Te
  Anga Road Waitomo.\nWalk through farmland and native forest following the
  Tawarau river along the Gorge track until a track junction.\nAfter crossi
 ng the bridge the Tawarau/Double Falls track crosses plantation forest and
  ends with a steep descent at the beautiful Double Falls.\nWe'll have lunc
 h here and explore the interesting limestone area a little.\nThen retrace 
 our steps back to the carpark. All in all 6 hrs. return.\nJust around the 
 corner\, on the way back to Hamilton\, we can stop for a little side trip 
 to the Marokopa Falls.\n&nbsp\;\nTransport\, $30 Members &amp\; $35 Non-me
 mbers\n&nbsp\;\nIf you are not a member of Hamilton Tramping Club and woul
 d like more Information about our trips please contact the Club Captain Ka
 thy Old on 027 815 3212
DTSTART:20251108T183000Z
DTEND:20251109T050000Z
GEO:00;0
LOCATION:
ORGANIZER;CN=:mailto:limgekkie@hotmail.com
SEQUENCE:1
SUMMARY:Trip 1351 NOV 9\, Speedy Road Double Falls and return\, Tawarau For
 est\, Waitomo /Grade A
TRANSP:OPAQUE
URL:https://tramphtc.org.nz/index.php/component/icagenda/52-trip-1351-nov-9
 -speedy-road-double-falls-and-return-tawarau-forest-waitomo-grade-a
END:VEVENT
END:VCALENDAR
