BEGIN:VCALENDAR
VERSION:2.0
PRODID:-//Hamilton Tramping Club//NONSGML kigkonsult.se iCalcreator 2.41.92//
CALSCALE:GREGORIAN
METHOD:PUBLISH
UID:35356434-3731-4961-b732-353833323963
X-WR-CALNAME:iCagenda
X-WR-CALDESC:Event Management Extension for Joomla!
X-WR-RELCALID:3E26604A-50F4-4449-8B3E-E4F4932D05B5
X-WR-TIMEZONE:Pacific/Auckland
BEGIN:VTIMEZONE
TZID:Pacific/Auckland
TZUNTIL:20270925T140000Z
BEGIN:STANDARD
TZNAME:NZST
DTSTART:20250406T030000
TZOFFSETFROM:+1300
TZOFFSETTO:+1200
RDATE:20260405T030000
RDATE:20270404T030000
END:STANDARD
BEGIN:DAYLIGHT
TZNAME:NZDT
DTSTART:20250928T020000
TZOFFSETFROM:+1200
TZOFFSETTO:+1300
RDATE:20260927T020000
END:DAYLIGHT
END:VTIMEZONE
BEGIN:VEVENT
UID:66313637-3461-4031-b139-366337363933
DTSTAMP:20260421T000547Z
CATEGORIES:B Grade
CLASS:PUBLIC
DESCRIPTION;ALTREP="CID:<FFFF__=0ABBE548DFE235B58f9e8a93d@coffeebean.com>":
 &nbsp\;\nLeader - Cate\n&nbsp\;Sorry\, this tramp has been cancelled\nBook
 ings start 31 Aug to 20 Oct\n&nbsp\;\nA Great place to tramp with good acc
 ommodation\nAccommodation has been booked at Whitestar Station. We are in 
 Number 10 - which is a house (3 bedrooms) accommodating up to 8 people.&nb
 sp\;\nWe will travel up on Saturday morning in private vehicles\, (2\, so 
 will need one more volunteer with a reasonable size vehicle) approximately
  3 hrs. Likely stopping for lunch along the way.&nbsp\;\nHopefully a short
  (ish) walk / or checking out a local spot\, before checking into accommod
 ation on Saturday afternoon ?&nbsp\;\nWalk / tramp for Sunday &amp\; poten
 tially Monday morning TBC - will depend on who comes along &amp\; if they 
 were on our previous trip up this way.&nbsp\;\nShared snacks &amp\; maybe 
 a glass of your favourite drop on Saturday night. Otherwise\, own arrangem
 ents for food.&nbsp\;\nCosts\n$94.00 pp for two nights (if we get 8 people
 \, costs will be more if less people)\nTravel costs to be determined\, lik
 ely between $50.00 - $60.00 pp&nbsp\;\nA very reasonable price for a long 
 weekend trip.&nbsp\;\nThis will be a great weekend\, in an area that we do
 n't get to very often.\n&nbsp\;\nIf you are not a member of Hamilton Tramp
 ing Club and would like more Information about our trips please contact th
 e Club Captain Kathy Old on 027 815 3212
DTSTART:20251024T183000Z
DTEND:20251027T053000Z
GEO:00;0
LOCATION:
ORGANIZER;CN=:mailto:Cate.hampton@outlook.co.nz
SEQUENCE:1
SUMMARY:Trip 1350 (( CANCELLED)) OCT 25/27 LABOUR WEEKEND\, White Star Stat
 ion\, Colville /Grade B
TRANSP:OPAQUE
URL:https://tramphtc.org.nz/index.php/component/icagenda/51-trip-1350-oct-2
 5-27-labour-weekend-white-star-station-colville-grade-b
END:VEVENT
END:VCALENDAR
