BEGIN:VCALENDAR
VERSION:2.0
PRODID:-//Hamilton Tramping Club//NONSGML kigkonsult.se iCalcreator 2.41.92//
CALSCALE:GREGORIAN
METHOD:PUBLISH
UID:65386233-3134-4137-a562-643262316166
X-WR-CALNAME:iCagenda
X-WR-CALDESC:Event Management Extension for Joomla!
X-WR-RELCALID:3E26604A-50F4-4449-8B3E-E4F4932D05B5
X-WR-TIMEZONE:Pacific/Auckland
BEGIN:VTIMEZONE
TZID:Pacific/Auckland
TZUNTIL:20270925T140000Z
BEGIN:STANDARD
TZNAME:NZST
DTSTART:20250406T030000
TZOFFSETFROM:+1300
TZOFFSETTO:+1200
RDATE:20260405T030000
RDATE:20270404T030000
END:STANDARD
BEGIN:DAYLIGHT
TZNAME:NZDT
DTSTART:20250928T020000
TZOFFSETFROM:+1200
TZOFFSETTO:+1300
RDATE:20260927T020000
END:DAYLIGHT
END:VTIMEZONE
BEGIN:VEVENT
UID:62356236-3931-4165-b565-313564326434
DTSTAMP:20260421T000654Z
CATEGORIES:A Grade
CLASS:PUBLIC
DESCRIPTION;ALTREP="CID:<FFFF__=0ABBE548DFE235B58f9e8a93d@coffeebean.com>":
 &nbsp\;\nTramp Leader : Linda P\nCo-leader : Sharon W\n&nbsp\;\nBookings s
 tart 12 Sept to 6 Oct\n&nbsp\;\nMore details to follow\n&nbsp\;\nTransport
 \, $30 Members &amp\; $35 Non-members\n&nbsp\;\nIf you are not a member of
  Hamilton Tramping Club and would like more Information about our trips pl
 ease contact the Club Captain Kathy Old on 027 815 3212
DTSTART:20251011T183000Z
DTEND:20251012T043000Z
GEO:00;0
LOCATION:
ORGANIZER;CN=:mailto:lindap3063@gmail.com
SEQUENCE:1
SUMMARY:Trip 1349 OCT 12\, West Tuahu\, Te Rereatukahia Hut and hunter’s tr
 ack /Grade A
TRANSP:OPAQUE
URL:https://tramphtc.org.nz/index.php/component/icagenda/50-trip-1349-oct-1
 2-west-tuahu-te-rereatukahia-hut-and-hunter-s-track-grade-a
END:VEVENT
END:VCALENDAR
