BEGIN:VCALENDAR
VERSION:2.0
PRODID:-//Hamilton Tramping Club//NONSGML kigkonsult.se iCalcreator 2.41.92//
CALSCALE:GREGORIAN
METHOD:PUBLISH
UID:63363732-3634-4636-b934-616165376366
X-WR-CALNAME:iCagenda
X-WR-CALDESC:Event Management Extension for Joomla!
X-WR-RELCALID:3E26604A-50F4-4449-8B3E-E4F4932D05B5
X-WR-TIMEZONE:Pacific/Auckland
BEGIN:VTIMEZONE
TZID:Pacific/Auckland
TZUNTIL:20270403T140000Z
BEGIN:STANDARD
TZNAME:NZST
DTSTART:20250406T030000
TZOFFSETFROM:+1300
TZOFFSETTO:+1200
RDATE:20260405T030000
END:STANDARD
BEGIN:DAYLIGHT
TZNAME:NZDT
DTSTART:20240929T020000
TZOFFSETFROM:+1200
TZOFFSETTO:+1300
RDATE:20250928T020000
RDATE:20260927T020000
END:DAYLIGHT
END:VTIMEZONE
BEGIN:VEVENT
UID:32333366-3963-4137-b733-623938653533
DTSTAMP:20260420T223055Z
CATEGORIES:B Grade
CLASS:PUBLIC
DESCRIPTION;ALTREP="CID:<FFFF__=0ABBE548DFE235B58f9e8a93d@coffeebean.com>":
 &nbsp\;\nTramp Leader : Ian\nCo-leader : Carl\n&nbsp\;\nBookings start 1 J
 ul to 22 Sept\n&nbsp\;\n*Fun in the white stuff*\n&nbsp\;\nThis is an oppo
 rtunity to have a tramp on Mt Taranaki in September with the hope of findi
 ng snow.\nIt is a Saturday/ Sunday trip with Saturday night spent in the 1
 6 bunk space Maketawa Hut on the Maunga.\nWe will leave Hamilton at 7.30am
  on Saturday and drive to the Taranaki Northern Visitors Centre on the mou
 ntain. We will then tramp to the Maketawa Hut via the lower bush trail (1.
 5-2 hours). The hut is not bookable and requires visitors to pre purchase 
 a $25 Serviced Hut Ticket or have an annual Backcountry Hut Pass. Tickets 
 are available from Hamilton tramping shops- check availability by phoning.
 \nOn Sunday morning we will set off up the mountain in search of snow. If 
 we are lucky it will be there\, but if not\, it will still be a great day 
 on the mountain. At a pre-arranged time we will descend the mountain to ou
 r vehicles to return to Hamilton.\nThis trip will suit trampers who have g
 ood uphill tramp fitness and who are comfortable with overnighting in moun
 tain huts. You will need to bring food for Saturday lunch and dinner and S
 unday breakfast and lunch plus any nibbles and drinks and clothing suitabl
 e for winter mountain conditions.\nIf this trip is of interest let me know
  by phoning on 027 777 4551 or to Carl on 027 354 9273. To assist in organ
 ising transport\, please confirm your interest in joining the trip by Satu
 rday 20th September.\n&nbsp\;\nTransport &amp\; Accommodation Costs to be 
 confirmed\n&nbsp\;\n&nbsp\;
DTSTART:20250926T193000Z
DTEND:20250928T060000Z
GEO:00;0
LOCATION:
ORGANIZER;CN=:mailto:iankindred1@gmail.com
SEQUENCE:1
SUMMARY:Trip 1348 SEP 27/28 SNOW TRIP OVERNIGHTER\, Mt Taranaki – Maketawa 
 Hut
TRANSP:OPAQUE
URL:https://tramphtc.org.nz/index.php/component/icagenda/49-trip-1348-sep-2
 7-28-snow-trip-overnighter-mt-taranaki-maketawa-hut
END:VEVENT
END:VCALENDAR
