BEGIN:VCALENDAR
VERSION:2.0
PRODID:-//Hamilton Tramping Club//NONSGML kigkonsult.se iCalcreator 2.41.92//
CALSCALE:GREGORIAN
METHOD:PUBLISH
UID:65343564-3139-4466-a532-616265306630
X-WR-CALNAME:iCagenda
X-WR-CALDESC:Event Management Extension for Joomla!
X-WR-RELCALID:3E26604A-50F4-4449-8B3E-E4F4932D05B5
X-WR-TIMEZONE:Pacific/Auckland
BEGIN:VTIMEZONE
TZID:Pacific/Auckland
TZUNTIL:20270403T140000Z
BEGIN:STANDARD
TZNAME:NZST
DTSTART:20250406T030000
TZOFFSETFROM:+1300
TZOFFSETTO:+1200
RDATE:20260405T030000
END:STANDARD
BEGIN:DAYLIGHT
TZNAME:NZDT
DTSTART:20240929T020000
TZOFFSETFROM:+1200
TZOFFSETTO:+1300
RDATE:20250928T020000
RDATE:20260927T020000
END:DAYLIGHT
END:VTIMEZONE
BEGIN:VEVENT
UID:30323031-3464-4364-b133-306366373964
DTSTAMP:20260420T223000Z
CATEGORIES:A Grade
CLASS:PUBLIC
DESCRIPTION;ALTREP="CID:<FFFF__=0ABBE548DFE235B58f9e8a93d@coffeebean.com>":
 \nTramp Leader : Lorna\nCo-leader : Fiona\n&nbsp\;\nBookings start 14 Aug 
 to 8 Sept\n&nbsp\;\nMaratoto To Golden Gross Sept 14th\nThis track follows
  an old miners&nbsp\;track so it's a nice gradient. But it does criss cros
 s the Maratoto Stream so it is quite rocky and could be slippery. I recomm
 end&nbsp\;trekking poles.&nbsp\;\nAt the Golden Cross end is a picturesque
  tailings dam. The area has a lot of mining&nbsp\;history\, old starting&n
 bsp\;in 1895 and more recent in the 1980's.&nbsp\;\nIf we have time on our
  return some of the group may like to climb up Maratoto rock\, it is very 
 distinctive&nbsp\;thrusting up beside the river\, near our car park. We ca
 n go part way.&nbsp\;\n\nIf we do the Rock it will be about 6 hrs on track
 \, including lunch.\nAs per usual&nbsp\;we will depart Mill Lane 7:30. We 
 will decide nearer the time if we take cars or hire a van.&nbsp\;\n&nbsp\;
 \nTransport\, $30 Members &amp\; $35 Non-members\n&nbsp\;\nIf you are not 
 a member of Hamilton Tramping Club and would like more Information about o
 ur trips please contact the Club Captain Kathy Old on 027 815 3212
DTSTART:20250913T193000Z
DTEND:20250914T050000Z
GEO:00;0
LOCATION:
ORGANIZER;CN=:mailto:lornagribble@gmail.com
SEQUENCE:1
SUMMARY:Trip 1347 SEP 14\, Maratoto to Golden Cross and return /Grade A
TRANSP:OPAQUE
URL:https://tramphtc.org.nz/index.php/component/icagenda/48-trip-1347-sep-1
 4-maratoto-to-golden-cross-and-return-grade-a
END:VEVENT
END:VCALENDAR
