BEGIN:VCALENDAR
VERSION:2.0
PRODID:-//Hamilton Tramping Club//NONSGML kigkonsult.se iCalcreator 2.41.92//
CALSCALE:GREGORIAN
METHOD:PUBLISH
UID:63303637-3033-4733-b137-383935356165
X-WR-CALNAME:iCagenda
X-WR-CALDESC:Event Management Extension for Joomla!
X-WR-RELCALID:3E26604A-50F4-4449-8B3E-E4F4932D05B5
X-WR-TIMEZONE:Pacific/Auckland
BEGIN:VTIMEZONE
TZID:Pacific/Auckland
TZUNTIL:20270403T140000Z
BEGIN:STANDARD
TZNAME:NZST
DTSTART:20250406T030000
TZOFFSETFROM:+1300
TZOFFSETTO:+1200
RDATE:20260405T030000
END:STANDARD
BEGIN:DAYLIGHT
TZNAME:NZDT
DTSTART:20240929T020000
TZOFFSETFROM:+1200
TZOFFSETTO:+1300
RDATE:20250928T020000
RDATE:20260927T020000
END:DAYLIGHT
END:VTIMEZONE
BEGIN:VEVENT
UID:32626437-3731-4735-b465-323838343537
DTSTAMP:20260420T203844Z
CATEGORIES:A Grade
CLASS:PUBLIC
DESCRIPTION;ALTREP="CID:<FFFF__=0ABBE548DFE235B58f9e8a93d@coffeebean.com>":
 &nbsp\;\nLeaders Kathy and Ali\nBookings start 26 Jul to 18 Aug\n&nbsp\;\n
 Mt William Walkway\, from McMillan Rd carpark to Mt William Summit and ret
 urn – shortened version due to lambing\n&nbsp\;\nTransport\, $30 Members &
 amp\; $35 Non-members\n&nbsp\;\nIf you are not a member of Hamilton Trampi
 ng Club and would like more Information about our trips please contact the
  Club Captain Kathy Old on 027 815 3212
DTSTART:20250823T193000Z
DTEND:20250824T050000Z
GEO:00;0
LOCATION:
ORGANIZER;CN=:mailto:kathyoldgirl@gmail.com
SEQUENCE:1
SUMMARY:Trip 1346 AUG 24\, Mt William Walkway /Grade A
TRANSP:OPAQUE
URL:https://tramphtc.org.nz/index.php/component/icagenda/47-trip-1346-aug-2
 4-mt-william-walkway-grade-a
END:VEVENT
END:VCALENDAR
