BEGIN:VCALENDAR
VERSION:2.0
PRODID:-//Hamilton Tramping Club//NONSGML kigkonsult.se iCalcreator 2.41.92//
CALSCALE:GREGORIAN
METHOD:PUBLISH
UID:34653561-6134-4135-b162-646131396261
X-WR-CALNAME:iCagenda
X-WR-CALDESC:Event Management Extension for Joomla!
X-WR-RELCALID:3E26604A-50F4-4449-8B3E-E4F4932D05B5
X-WR-TIMEZONE:Pacific/Auckland
BEGIN:VTIMEZONE
TZID:Pacific/Auckland
TZUNTIL:20270403T140000Z
BEGIN:STANDARD
TZNAME:NZST
DTSTART:20250406T030000
TZOFFSETFROM:+1300
TZOFFSETTO:+1200
RDATE:20260405T030000
END:STANDARD
BEGIN:DAYLIGHT
TZNAME:NZDT
DTSTART:20240929T020000
TZOFFSETFROM:+1200
TZOFFSETTO:+1300
RDATE:20250928T020000
RDATE:20260927T020000
END:DAYLIGHT
END:VTIMEZONE
BEGIN:VEVENT
UID:66366566-3962-4661-b035-633866613464
DTSTAMP:20260420T204153Z
CATEGORIES:A Grade
CLASS:PUBLIC
DESCRIPTION;ALTREP="CID:<FFFF__=0ABBE548DFE235B58f9e8a93d@coffeebean.com>":
 &nbsp\;\nLeaders Janice and Lynne\n&nbsp\;\nBookings start 10 Jul to 4 Aug
 \n&nbsp\;\nA combo of small interesting walks\nMore details to follow\n&nb
 sp\;\nTransport\, $30 Members &amp\; $35 Non-members\n&nbsp\;\nIf you are 
 not a member of Hamilton Tramping Club and would like more Information abo
 ut our trips please contact the Club Captain Kathy Old on 027 815 3212
DTSTART:20250809T193000Z
DTEND:20250810T050000Z
GEO:00;0
LOCATION:
ORGANIZER;CN=:mailto:janice_eland@live.com
SEQUENCE:1
SUMMARY:Trip 1345 AUG 10\, Mt Kakepuku\, Lakes Ngaroto\, Serpentine\, Camer
 on\, Yardley’s Bush /Grade A
TRANSP:OPAQUE
URL:https://tramphtc.org.nz/index.php/component/icagenda/46-trip-1345-aug-1
 0-mt-kakepuku-lakes-ngaroto-serpentine-cameron-yardley-s-bush-grade-a
END:VEVENT
END:VCALENDAR
