BEGIN:VCALENDAR
VERSION:2.0
PRODID:-//Hamilton Tramping Club//NONSGML kigkonsult.se iCalcreator 2.41.92//
CALSCALE:GREGORIAN
METHOD:PUBLISH
UID:63663534-3261-4530-b035-373235363238
X-WR-CALNAME:iCagenda
X-WR-CALDESC:Event Management Extension for Joomla!
X-WR-RELCALID:3E26604A-50F4-4449-8B3E-E4F4932D05B5
X-WR-TIMEZONE:Pacific/Auckland
BEGIN:VTIMEZONE
TZID:Pacific/Auckland
TZUNTIL:20270403T140000Z
BEGIN:STANDARD
TZNAME:NZST
DTSTART:20250406T030000
TZOFFSETFROM:+1300
TZOFFSETTO:+1200
RDATE:20260405T030000
END:STANDARD
BEGIN:DAYLIGHT
TZNAME:NZDT
DTSTART:20240929T020000
TZOFFSETFROM:+1200
TZOFFSETTO:+1300
RDATE:20250928T020000
RDATE:20260927T020000
END:DAYLIGHT
END:VTIMEZONE
BEGIN:VEVENT
UID:66663461-3964-4961-b164-653664653139
DTSTAMP:20260420T190342Z
CATEGORIES:B Grade
CLASS:PUBLIC
DESCRIPTION;ALTREP="CID:<FFFF__=0ABBE548DFE235B58f9e8a93d@coffeebean.com>":
 &nbsp\;\nLeaders Michiel and Cate\n&nbsp\;\nBookings start 26 Jun to 21 Ju
 l\n&nbsp\;\nLeaving Saturday 26 July around noon in private vehicle(s).\nC
 heck into Pureora cabins\, afternoon walk in the area TBC.\n&nbsp\;\nOn Su
 nday drive to the Okahukura loop carpark at the road end.\nThis is a share
 d walking/mountainbiking track\, 14km\,4.5hrs.\nWalk to start Mangatutu tr
 ack\, options from there:\n\nup to Rangitoto range and return same way dow
 n to loop track (4hrs). Then back to road end car park\nor continue loop t
 rack to where it meets the road\ninstead of doing the Mangatutu track some
  might prefer to do the full loop track instead\; this would include 3.5km
 s along the road back to road end carpark\, unless otherwise arranged\n\n&
 nbsp\;\nBooking has been made for 2 cabins (sleeping 6 and 2 persons).\nEa
 ch cabin features:\n\nFull stove/oven\nCrockery\, cutlery\, pots\, pans et
 c\nFridge\nToaster and jug\nDining chairs and table\nEach block has servic
 ed toilets and showers with plenty of hot water.\n\nJust bring your own be
 dding (including pillows) and towels.\nAccommodation cost $30pp to be tran
 sferred as booking confirmation a week before departure.\nTransport cost $
 25pp (TBC) to be paid to the driver after the tramp.\n&nbsp\;\nIf you are 
 not a member of Hamilton Tramping Club and would like more Information abo
 ut our trips please contact the Club Captain Kathy Old on 027 815 3212
DTSTART:20250725T193000Z
DTEND:20250727T060000Z
GEO:00;0
LOCATION:
ORGANIZER;CN=:mailto:michielvd@hotmail.com
SEQUENCE:1
SUMMARY:Trip 1344 JUL 26/27 Okahukura Loop & Mangatutu Track\, Pureora (sta
 ying in Pureora cabins overnight) /Grade B
TRANSP:OPAQUE
URL:https://tramphtc.org.nz/index.php/component/icagenda/45-trip-1344-jul-2
 6-27-okahukura-loop-mangatutu-track-pureora-staying-in-pureora-cabins-over
 night-grade-b
END:VEVENT
END:VCALENDAR
