BEGIN:VCALENDAR
VERSION:2.0
PRODID:-//Hamilton Tramping Club//NONSGML kigkonsult.se iCalcreator 2.41.92//
CALSCALE:GREGORIAN
METHOD:PUBLISH
UID:61373436-6631-4236-a534-663934393232
X-WR-CALNAME:iCagenda
X-WR-CALDESC:Event Management Extension for Joomla!
X-WR-RELCALID:3E26604A-50F4-4449-8B3E-E4F4932D05B5
X-WR-TIMEZONE:Pacific/Auckland
BEGIN:VTIMEZONE
TZID:Pacific/Auckland
TZUNTIL:20270403T140000Z
BEGIN:STANDARD
TZNAME:NZST
DTSTART:20250406T030000
TZOFFSETFROM:+1300
TZOFFSETTO:+1200
RDATE:20260405T030000
END:STANDARD
BEGIN:DAYLIGHT
TZNAME:NZDT
DTSTART:20240929T020000
TZOFFSETFROM:+1200
TZOFFSETTO:+1300
RDATE:20250928T020000
RDATE:20260927T020000
END:DAYLIGHT
END:VTIMEZONE
BEGIN:VEVENT
UID:39326261-6162-4265-b837-626137616165
DTSTAMP:20260420T185709Z
CATEGORIES:A Grade
CLASS:PUBLIC
DESCRIPTION;ALTREP="CID:<FFFF__=0ABBE548DFE235B58f9e8a93d@coffeebean.com>":
 &nbsp\;\nLeaders Sharon and Grant\n&nbsp\;\nBookings start 13 Jun to 7 Jul
 \n&nbsp\;\nWe will leave Mill Lane at 7.30am to travel to Te Aroha.&nbsp\;
  Unsure of whether we use cars or a van at this stage. A decision will be 
 made when we know further about numbers etc.\nWe intend going up the bald 
 Spur track to the lookout \, Whakapipi\,&nbsp\; then a little further on t
 urning down the Horseman track to reunite with the domain track .&nbsp\; T
 urning onto&nbsp\; the cycle track will loop us back&nbsp\; to where we st
 arted. Estimated walking time is 4-5 hrs which should leave time for a swi
 m in the hot pools&nbsp\;for those who wish\, or a coffee and a relax for 
 others.&nbsp\;\n&nbsp\;\nTransport\, $30 Members &amp\; $35 Non-members\n&
 nbsp\;\nIf you are not a member of Hamilton Tramping Club and would like m
 ore Information about our trips please contact the Club Captain Kathy Old 
 on 027 815 3212\n&nbsp\;
DTSTART:20250712T193000Z
DTEND:20250713T053000Z
GEO:00;0
LOCATION:
ORGANIZER;CN=:mailto:sharonwoodward577@gmail.com
SEQUENCE:1
SUMMARY:Trip 1343 JUL 13\, Walks on Mt Te Aroha and hot/warm swim afterward
 s /Grade A
TRANSP:OPAQUE
URL:https://tramphtc.org.nz/index.php/component/icagenda/44-trip-1343-jul-1
 3-walks-on-mt-te-aroha-and-hot-warm-swim-afterwards-grade-a
END:VEVENT
END:VCALENDAR
