BEGIN:VCALENDAR
VERSION:2.0
PRODID:-//Hamilton Tramping Club//NONSGML kigkonsult.se iCalcreator 2.41.92//
CALSCALE:GREGORIAN
METHOD:PUBLISH
UID:61653430-3130-4537-b764-303831623164
X-WR-CALNAME:iCagenda
X-WR-CALDESC:Event Management Extension for Joomla!
X-WR-RELCALID:3E26604A-50F4-4449-8B3E-E4F4932D05B5
X-WR-TIMEZONE:Pacific/Auckland
BEGIN:VTIMEZONE
TZID:Pacific/Auckland
TZUNTIL:20270403T140000Z
BEGIN:STANDARD
TZNAME:NZST
DTSTART:20250406T030000
TZOFFSETFROM:+1300
TZOFFSETTO:+1200
RDATE:20260405T030000
END:STANDARD
BEGIN:DAYLIGHT
TZNAME:NZDT
DTSTART:20240929T020000
TZOFFSETFROM:+1200
TZOFFSETTO:+1300
RDATE:20250928T020000
RDATE:20260927T020000
END:DAYLIGHT
END:VTIMEZONE
BEGIN:VEVENT
UID:32393764-3664-4030-b132-396438343438
DTSTAMP:20260420T171714Z
CATEGORIES:A Grade
CLASS:PUBLIC
DESCRIPTION;ALTREP="CID:<FFFF__=0ABBE548DFE235B58f9e8a93d@coffeebean.com>":
 &nbsp\;\n&nbsp\;\n&nbsp\;\nLeader Carl\n&nbsp\;\nBookings start May 20 to 
 June 23\nA Surprise Tramp with an element of fun. Normally not too far fro
 m Hamilton\n&nbsp\;All I can say is it will be:-\nmostly flat\,\na small a
 mount of bush bashing\,\nyou should learn a few things\nand also see some 
 Fungi\n&nbsp\;\n&nbsp\;\nTransport $20\nIf you are not a member of Hamilto
 n Tramping Club and would like more Information about our trips please con
 tact the Club Captain Kathy Old on 027 815 3212
DTSTART:20250629T084500Z
DTEND:20250629T084500Z
GEO:00;0
LOCATION:
ORGANIZER;CN=:mailto:mosclanz@gmail.com
SEQUENCE:1
SUMMARY:Trip 1342 JUN 29\, Surprise Tramp
TRANSP:OPAQUE
URL:https://tramphtc.org.nz/index.php/component/icagenda/43-trip-1342-jun-2
 9
END:VEVENT
END:VCALENDAR
