BEGIN:VCALENDAR
VERSION:2.0
PRODID:-//Hamilton Tramping Club//NONSGML kigkonsult.se iCalcreator 2.41.92//
CALSCALE:GREGORIAN
METHOD:PUBLISH
UID:65323361-3566-4135-b834-623135366161
X-WR-CALNAME:iCagenda
X-WR-CALDESC:Event Management Extension for Joomla!
X-WR-RELCALID:3E26604A-50F4-4449-8B3E-E4F4932D05B5
X-WR-TIMEZONE:Pacific/Auckland
BEGIN:VTIMEZONE
TZID:Pacific/Auckland
TZUNTIL:20270403T140000Z
BEGIN:STANDARD
TZNAME:NZST
DTSTART:20250406T030000
TZOFFSETFROM:+1300
TZOFFSETTO:+1200
RDATE:20260405T030000
END:STANDARD
BEGIN:DAYLIGHT
TZNAME:NZDT
DTSTART:20240929T020000
TZOFFSETFROM:+1200
TZOFFSETTO:+1300
RDATE:20250928T020000
RDATE:20260927T020000
END:DAYLIGHT
END:VTIMEZONE
BEGIN:VEVENT
UID:36303830-3064-4932-b539-616364623231
DTSTAMP:20260420T171858Z
CATEGORIES:A Grade
CLASS:PUBLIC
DESCRIPTION;ALTREP="CID:<FFFF__=0ABBE548DFE235B58f9e8a93d@coffeebean.com>":
 &nbsp\;\n&nbsp\;\n&nbsp\;\nLeader Ali\nBookings start to\nMahoe Track\n&nb
 sp\;\nWill take an hour’s drive to get to the start of this track\, either
  via Otorohanga or through the backroads of Pirongia Village\, destination
  a small carpark on Gayne Road.&nbsp\;&nbsp\;\n&nbsp\;\nWe are intending t
 o do a short section of Te Araroa Trail. Starting from the carpark\, follo
 w a farm road\, hopping over a few stiles along the way\, and on past an a
 irstrip.&nbsp\; 500 metres on beyond it\, the track leaves the formed farm
  road for an old timber trail – we will follow this for a couple of hours.
 &nbsp\; It would be nice to get to Mahoe Road and check out the new shelte
 r built for Te Araroa walkers\, but we will see how things go.&nbsp\; Othe
 rwise on a clear day\, there are beautiful views over the surrounding coun
 tryside\, an easyish farm walk mostly\, with some wet track underfoot for 
 part of it.&nbsp\; Expect to walk approx 4-5 hours.\n&nbsp\;\nLeader:&nbsp
 \; Ali Ryan\n&nbsp\;\nTransport\, $30 Members &amp\; $35 Non-members\nIf y
 ou are not a member of Hamilton Tramping Club and would like more Informat
 ion about our trips please contact the Club Captain Kathy Old on 027 815 3
 212
DTSTART:20250622T083800Z
DTEND:20250622T083900Z
GEO:00;0
LOCATION:
ORGANIZER;CN=:mailto:ali.k.ryan@gmail.com
SEQUENCE:1
SUMMARY:Trip 1341 JUN 22\, Mahoe Track\, Te Araroa Trail /Grade A
TRANSP:OPAQUE
URL:https://tramphtc.org.nz/index.php/component/icagenda/42-trip-1341-jun-2
 2-mahoe-track-te-araroa-trail-grade-a
END:VEVENT
END:VCALENDAR
