BEGIN:VCALENDAR
VERSION:2.0
PRODID:-//Hamilton Tramping Club//NONSGML kigkonsult.se iCalcreator 2.41.92//
CALSCALE:GREGORIAN
METHOD:PUBLISH
UID:37323530-6564-4039-b539-383136346161
X-WR-CALNAME:iCagenda
X-WR-CALDESC:Event Management Extension for Joomla!
X-WR-RELCALID:3E26604A-50F4-4449-8B3E-E4F4932D05B5
X-WR-TIMEZONE:Pacific/Auckland
BEGIN:VTIMEZONE
TZID:Pacific/Auckland
TZUNTIL:20270403T140000Z
BEGIN:STANDARD
TZNAME:NZST
DTSTART:20250406T030000
TZOFFSETFROM:+1300
TZOFFSETTO:+1200
RDATE:20260405T030000
END:STANDARD
BEGIN:DAYLIGHT
TZNAME:NZDT
DTSTART:20240929T020000
TZOFFSETFROM:+1200
TZOFFSETTO:+1300
RDATE:20250928T020000
RDATE:20260927T020000
END:DAYLIGHT
END:VTIMEZONE
BEGIN:VEVENT
UID:33366562-6265-4539-a434-353136343236
DTSTAMP:20260420T173026Z
CATEGORIES:B Grade
CLASS:PUBLIC
DESCRIPTION;ALTREP="CID:<FFFF__=0ABBE548DFE235B58f9e8a93d@coffeebean.com>":
 &nbsp\;\n&nbsp\;\n&nbsp\;\nLeaders Ian and Anna\nBookings start 20 May to 
 June 16\n&nbsp\;\nThis tramp is for a one night stay in the iconic\, archi
 tecturally&nbsp\;designed\, backcountry\, serviced Crosbies Hut located on
  the Coromandel&nbsp\;Main Range. We have booked all 10 available beds for
  the night\, which gives us plenty of room to experience the facility in r
 elaxed surroundings in front of a warm fire. It is an ideal opportunity fo
 r anyone who wants to come out with a group to a good standard Coromandel 
 Hut. The plan is to form two groups to travel&nbsp\;to two different start
  locations and meet up and&nbsp\;swap keys at the Hut. One group will tram
 p from Waioumu on the Thames Coast and up through the beautiful Waiomu Kau
 ri Grove to the Hut and the other group will start behind Thames township 
 and tramp up the Karaka Track with views of East Coromandel forest and the
  Pinnacles&nbsp\;Peak. Both options are about a 5 hour tramp in. Next morn
 ing we will tramp down the other track option and meet up in Thames for re
 freshments.\nFirst preference for places will be reserved for Club members
 . The hut cost is $25 per person and we will share the transport costs.\n&
 nbsp\;\nIf you are not a member of Hamilton Tramping Club and would like m
 ore Information about our trips please contact the Club Captain Kathy Old 
 on 027 815 3212
DTSTART:20250620T193000Z
DTEND:20250622T082900Z
GEO:00;0
LOCATION:
ORGANIZER;CN=:mailto:iankindred1@gmail.com
SEQUENCE:1
SUMMARY:Trip 1340 JUN 21-22\, MATARIKI WEEKEND – Crosbies Hut overnighter. 
 /Grade B
TRANSP:OPAQUE
URL:https://tramphtc.org.nz/index.php/component/icagenda/41-trip-1340-jun-2
 0-22-matariki-weekend-crosbies-hut-overnighter-grade-b
END:VEVENT
END:VCALENDAR
