BEGIN:VCALENDAR
VERSION:2.0
PRODID:-//Hamilton Tramping Club//NONSGML kigkonsult.se iCalcreator 2.41.92//
CALSCALE:GREGORIAN
METHOD:PUBLISH
UID:39633162-6132-4031-b238-363230373131
X-WR-CALNAME:iCagenda
X-WR-CALDESC:Event Management Extension for Joomla!
X-WR-RELCALID:3E26604A-50F4-4449-8B3E-E4F4932D05B5
X-WR-TIMEZONE:Pacific/Auckland
BEGIN:VTIMEZONE
TZID:Pacific/Auckland
TZUNTIL:20270403T140000Z
BEGIN:STANDARD
TZNAME:NZST
DTSTART:20250406T030000
TZOFFSETFROM:+1300
TZOFFSETTO:+1200
RDATE:20260405T030000
END:STANDARD
BEGIN:DAYLIGHT
TZNAME:NZDT
DTSTART:20240929T020000
TZOFFSETFROM:+1200
TZOFFSETTO:+1300
RDATE:20250928T020000
RDATE:20260927T020000
END:DAYLIGHT
END:VTIMEZONE
BEGIN:VEVENT
UID:64613035-6631-4363-b764-643339616638
DTSTAMP:20260420T172905Z
CATEGORIES:A Grade
CLASS:PUBLIC
DESCRIPTION;ALTREP="CID:<FFFF__=0ABBE548DFE235B58f9e8a93d@coffeebean.com>":
 &nbsp\;\n&nbsp\;\n&nbsp\;\nLeaders Sharon and Clare\nBookings start May 20
  to June 16\nMore Details to Follow\n&nbsp\;\nTransport\, $30 Members &amp
 \; $35 Non-members\nIf you are not a member of Hamilton Tramping Club and 
 would like more Information about our trips please contact the Club Captai
 n Kathy Old on 027 815 3212
DTSTART:20250608T071000Z
DTEND:20250608T071100Z
GEO:00;0
LOCATION:
ORGANIZER;CN=:mailto:sharonwoodward577@gmail.com
SEQUENCE:1
SUMMARY:Trip1339 JUN 8\, Mt Karioi via Surf Lodge /Grade A
TRANSP:OPAQUE
URL:https://tramphtc.org.nz/index.php/component/icagenda/40-trip1339-jun-8-
 mt-karioi-via-surf-lodge-grade-a
END:VEVENT
END:VCALENDAR
