BEGIN:VCALENDAR
VERSION:2.0
PRODID:-//Hamilton Tramping Club//NONSGML kigkonsult.se iCalcreator 2.41.92//
CALSCALE:GREGORIAN
METHOD:PUBLISH
UID:35373733-3762-4339-b164-343164653037
X-WR-CALNAME:iCagenda
X-WR-CALDESC:Event Management Extension for Joomla!
X-WR-RELCALID:3E26604A-50F4-4449-8B3E-E4F4932D05B5
X-WR-TIMEZONE:Pacific/Auckland
BEGIN:VTIMEZONE
TZID:Pacific/Auckland
TZUNTIL:20260404T140000Z
BEGIN:STANDARD
TZNAME:NZST
DTSTART:20240407T030000
TZOFFSETFROM:+1300
TZOFFSETTO:+1200
RDATE:20250406T030000
END:STANDARD
BEGIN:DAYLIGHT
TZNAME:NZDT
DTSTART:20230924T020000
TZOFFSETFROM:+1200
TZOFFSETTO:+1300
RDATE:20240929T020000
RDATE:20250928T020000
END:DAYLIGHT
END:VTIMEZONE
BEGIN:VEVENT
UID:32636266-6161-4533-a336-323738623761
DTSTAMP:20260420T171714Z
CATEGORIES:A Grade
CLASS:PUBLIC
DESCRIPTION;ALTREP="CID:<FFFF__=0ABBE548DFE235B58f9e8a93d@coffeebean.com>":
 IMPORTANT - PLEASE READ BEFORE BOOKING THIS TRAMP\nBookings open 1 month b
 efore and close on Monday evenings before the tramp date unless noted othe
 rwise. Book online or phone the leader or co--leader. For trips with multi
 ple grades indicated choose/state your preferred option.\n&nbsp\;\nLate ca
 ncellation may incur a&nbsp\;cancellation fee. Unless reasons are compelli
 ng pulling out of a trip at the last minute is unfair and should be avoide
 d.\n&nbsp\;\n&nbsp\;\n&nbsp\;\nTRAMP 1270: MAY 13-14\, WHITECLIFFS – MT ME
 SSENGER\n&nbsp\;\nOvernight in holiday park close to the Southern end of t
 he Whitecliffs track. Low tide on the Sunday is around 11am\, ideal forthe
  beach walk along the beautiful cliffs. The easier option is looping back 
 to the start via the inland track that follows the gaspipeline. People doi
 ng this can then drive the van back to Mt Messenger to pick up the people 
 that choose to walk the trackfrom the beach up and along a forested ridge 
 coming out at SH3 near the summit.\nGrade A+B: $50 – non-members $55 + acc
 ommodation. Book in April 13 - May 8.
DTSTART:20240518T010900Z
DTEND:20240519T010900Z
GEO:-38.893974;+174.59436
LOCATION:
ORGANIZER;CN=:mailto:slj_bailey_test1@outlook.co.nz
SEQUENCE:1
SUMMARY:TRAMP 1270: WHITECLIFFS – MT MESSENGER
TRANSP:OPAQUE
URL:https://tramphtc.org.nz/index.php/component/icagenda/4-tramp-1270-white
 cliffs-mt-messenger
END:VEVENT
END:VCALENDAR
