BEGIN:VCALENDAR
VERSION:2.0
PRODID:-//Hamilton Tramping Club//NONSGML kigkonsult.se iCalcreator 2.41.92//
CALSCALE:GREGORIAN
METHOD:PUBLISH
UID:61626234-6263-4937-a334-356134343966
X-WR-CALNAME:iCagenda
X-WR-CALDESC:Event Management Extension for Joomla!
X-WR-RELCALID:3E26604A-50F4-4449-8B3E-E4F4932D05B5
X-WR-TIMEZONE:Pacific/Auckland
BEGIN:VTIMEZONE
TZID:Pacific/Auckland
TZUNTIL:20270403T140000Z
BEGIN:STANDARD
TZNAME:NZST
DTSTART:20250406T030000
TZOFFSETFROM:+1300
TZOFFSETTO:+1200
RDATE:20260405T030000
END:STANDARD
BEGIN:DAYLIGHT
TZNAME:NZDT
DTSTART:20240929T020000
TZOFFSETFROM:+1200
TZOFFSETTO:+1300
RDATE:20250928T020000
RDATE:20260927T020000
END:DAYLIGHT
END:VTIMEZONE
BEGIN:VEVENT
UID:34623838-3337-4164-a332-386533623036
DTSTAMP:20260420T154810Z
CATEGORIES:A Grade
CLASS:PUBLIC
DESCRIPTION;ALTREP="CID:<FFFF__=0ABBE548DFE235B58f9e8a93d@coffeebean.com>":
 &nbsp\;\n&nbsp\;\n&nbsp\;\nLeaders Cate and Kevin\nBookings start April 24
  to May 26\nMore Details to Follow\n&nbsp\;\nTransport\, TBA\nIf you are n
 ot a member of Hamilton Tramping Club and would like more Information abou
 t our trips please contact the Club Captain Kathy Old on 027 815 3212
DTSTART:20250531T061500Z
DTEND:20250602T061600Z
GEO:00;0
LOCATION:
ORGANIZER;CN=:mailto:Cate.hampton@outlook.co.nz
SEQUENCE:1
SUMMARY:Trip 1338 MAY 31 JUN 1-2\, KINGS BIRTHDAY WEEKEND -Tuahu Track to S
 apphire Springs Camping Ground and return /Grade A
TRANSP:OPAQUE
URL:https://tramphtc.org.nz/index.php/component/icagenda/39-trip-1338-may-3
 1-jun-1-2-kings-birthday-weekend-tuahu-track-to-sapphire-springs-camping-g
 round-and-return-grade-a
END:VEVENT
END:VCALENDAR
