BEGIN:VCALENDAR
VERSION:2.0
PRODID:-//Hamilton Tramping Club//NONSGML kigkonsult.se iCalcreator 2.41.92//
CALSCALE:GREGORIAN
METHOD:PUBLISH
UID:38663333-6165-4537-b363-653531326631
X-WR-CALNAME:iCagenda
X-WR-CALDESC:Event Management Extension for Joomla!
X-WR-RELCALID:3E26604A-50F4-4449-8B3E-E4F4932D05B5
X-WR-TIMEZONE:Pacific/Auckland
BEGIN:VTIMEZONE
TZID:Pacific/Auckland
TZUNTIL:20270403T140000Z
BEGIN:STANDARD
TZNAME:NZST
DTSTART:20250406T030000
TZOFFSETFROM:+1300
TZOFFSETTO:+1200
RDATE:20260405T030000
END:STANDARD
BEGIN:DAYLIGHT
TZNAME:NZDT
DTSTART:20240929T020000
TZOFFSETFROM:+1200
TZOFFSETTO:+1300
RDATE:20250928T020000
RDATE:20260927T020000
END:DAYLIGHT
END:VTIMEZONE
BEGIN:VEVENT
UID:63656533-3565-4634-b833-623166383339
DTSTAMP:20260420T154810Z
CATEGORIES:Other
CLASS:PUBLIC
DESCRIPTION;ALTREP="CID:<FFFF__=0ABBE548DFE235B58f9e8a93d@coffeebean.com>":
 &nbsp\;\nHAMILTON TRAMPING CLUB AGM\n&nbsp\;Te Rapa Tavern-Sports Bar 45 S
 unshine Avenue\, Te Rapa\, Hamilton 3200\n&nbsp\;\nThe club invites member
 s and their partners for the evening. Enjoy a drink/meal and catch up on a
 ll the gossip before the meeting. \n&nbsp\;\nHave your say\, join the comm
 ittee\, find out who is this years Tramper of the Year. Presentation/Guest
  speeker after the meeting.\n&nbsp\;\nMeals 6pm or before.&nbsp\;&nbsp\; A
 GM starts at 7:30pm\n&nbsp\;\nCLICK GREEN BELOW FOR FOOD MENU\nhttps://ter
 apatavern.nz/all-menus/
DTSTART:20250526T060000Z
DTEND:20250526T093000Z
GEO:00;0
LOCATION:
ORGANIZER;CN=:mailto:iankindred1@gmail.com
SEQUENCE:1
SUMMARY:26 MAY 26\, AGM – TeRapa Tavern. Join us for Dinner at 6 pm and the
  AGM starts 7.30 pm.
TRANSP:OPAQUE
URL:https://tramphtc.org.nz/index.php/component/icagenda/38-trip-26-may-26-
 agm-terapa-tavern-join-us-for-dinner-at-6-pm-and-the-agm-starts-7-30-pm
END:VEVENT
END:VCALENDAR
