BEGIN:VCALENDAR
VERSION:2.0
PRODID:-//Hamilton Tramping Club//NONSGML kigkonsult.se iCalcreator 2.41.92//
CALSCALE:GREGORIAN
METHOD:PUBLISH
UID:61363933-3066-4536-a435-313534633930
X-WR-CALNAME:iCagenda
X-WR-CALDESC:Event Management Extension for Joomla!
X-WR-RELCALID:3E26604A-50F4-4449-8B3E-E4F4932D05B5
X-WR-TIMEZONE:Pacific/Auckland
BEGIN:VTIMEZONE
TZID:Pacific/Auckland
TZUNTIL:20270403T140000Z
BEGIN:STANDARD
TZNAME:NZST
DTSTART:20250406T030000
TZOFFSETFROM:+1300
TZOFFSETTO:+1200
RDATE:20260405T030000
END:STANDARD
BEGIN:DAYLIGHT
TZNAME:NZDT
DTSTART:20240929T020000
TZOFFSETFROM:+1200
TZOFFSETTO:+1300
RDATE:20250928T020000
RDATE:20260927T020000
END:DAYLIGHT
END:VTIMEZONE
BEGIN:VEVENT
UID:39356663-3433-4238-b238-666238333838
DTSTAMP:20260420T154645Z
CATEGORIES:A Grade
CLASS:PUBLIC
DESCRIPTION;ALTREP="CID:<FFFF__=0ABBE548DFE235B58f9e8a93d@coffeebean.com>":
 &nbsp\;\n&nbsp\;\nLeaders Janice &amp\; Sima\nBookings start April 25 to M
 ay 19\nMore Details to Follow\n&nbsp\;\nTransport\, $30 Members &amp\; $35
  Non-members\nIf you are not a member of Hamilton Tramping Club and would 
 like more Information about our trips please contact the Club Captain Kath
 y Old on 027 815 3212\n&nbsp\;
DTSTART:20250525T044800Z
DTEND:20250525T044800Z
GEO:00;0
LOCATION:
ORGANIZER;CN=:mailto:Janice_eland@live.com
SEQUENCE:1
SUMMARY:Trip1337 MAY 25\, Woods Mill Track & back/or to the Trig\, Mamaku P
 lateau /Grade A.
TRANSP:OPAQUE
URL:https://tramphtc.org.nz/index.php/component/icagenda/37-trip1337-may-25
 -woods-mill-track-back-or-to-the-trig-mamaku-plateau-grade-a
END:VEVENT
END:VCALENDAR
