BEGIN:VCALENDAR
VERSION:2.0
PRODID:-//Hamilton Tramping Club//NONSGML kigkonsult.se iCalcreator 2.41.92//
CALSCALE:GREGORIAN
METHOD:PUBLISH
UID:38663666-6138-4033-b861-343837356136
X-WR-CALNAME:iCagenda
X-WR-CALDESC:Event Management Extension for Joomla!
X-WR-RELCALID:3E26604A-50F4-4449-8B3E-E4F4932D05B5
X-WR-TIMEZONE:Pacific/Auckland
BEGIN:VTIMEZONE
TZID:Pacific/Auckland
TZUNTIL:20270403T140000Z
BEGIN:STANDARD
TZNAME:NZST
DTSTART:20250406T030000
TZOFFSETFROM:+1300
TZOFFSETTO:+1200
RDATE:20260405T030000
END:STANDARD
BEGIN:DAYLIGHT
TZNAME:NZDT
DTSTART:20240929T020000
TZOFFSETFROM:+1200
TZOFFSETTO:+1300
RDATE:20250928T020000
RDATE:20260927T020000
END:DAYLIGHT
END:VTIMEZONE
BEGIN:VEVENT
UID:34626566-6339-4732-b461-396234393839
DTSTAMP:20260420T160513Z
CATEGORIES:A Grade
CLASS:PUBLIC
DESCRIPTION;ALTREP="CID:<FFFF__=0ABBE548DFE235B58f9e8a93d@coffeebean.com>":
 &nbsp\;\n&nbsp\;\n&nbsp\;\nLeaders Lorna &amp\; Lynne\nBookings start Apri
 l 11 to May 12\nMore Details to Follow\n&nbsp\;\n$15 + Transport TBA\nIf y
 ou are not a member of Hamilton Tramping Club and would like more Informat
 ion about our trips please contact the Club Captain Kathy Old on 027 815 3
 212
DTSTART:20250517T043900Z
DTEND:20250518T044000Z
GEO:00;0
LOCATION:
ORGANIZER;CN=:mailto:lornagribble@gmail.com
SEQUENCE:1
SUMMARY:Trip 1336 MAY 17-18\, Whatipu Batch.  Day Walks.  Limited Places /G
 rade A.
TRANSP:OPAQUE
URL:https://tramphtc.org.nz/index.php/component/icagenda/36-trip-1336-may-1
 7-18-whatipu-batch-day-walks-limited-places-grade-a
END:VEVENT
END:VCALENDAR
