BEGIN:VCALENDAR
VERSION:2.0
PRODID:-//Hamilton Tramping Club//NONSGML kigkonsult.se iCalcreator 2.41.92//
CALSCALE:GREGORIAN
METHOD:PUBLISH
UID:36333834-3632-4336-b831-306133346635
X-WR-CALNAME:iCagenda
X-WR-CALDESC:Event Management Extension for Joomla!
X-WR-RELCALID:3E26604A-50F4-4449-8B3E-E4F4932D05B5
X-WR-TIMEZONE:Pacific/Auckland
BEGIN:VTIMEZONE
TZID:Pacific/Auckland
TZUNTIL:20270403T140000Z
BEGIN:STANDARD
TZNAME:NZST
DTSTART:20250406T030000
TZOFFSETFROM:+1300
TZOFFSETTO:+1200
RDATE:20260405T030000
END:STANDARD
BEGIN:DAYLIGHT
TZNAME:NZDT
DTSTART:20240929T020000
TZOFFSETFROM:+1200
TZOFFSETTO:+1300
RDATE:20250928T020000
RDATE:20260927T020000
END:DAYLIGHT
END:VTIMEZONE
BEGIN:VEVENT
UID:31376133-6361-4265-b063-643461623764
DTSTAMP:20260420T155040Z
CATEGORIES:A Grade
CLASS:PUBLIC
DESCRIPTION;ALTREP="CID:<FFFF__=0ABBE548DFE235B58f9e8a93d@coffeebean.com>":
 &nbsp\;\n&nbsp\;\nLeader Lorna\nBookings start April 1 to May 5\nMore Deta
 ils to Follow\n&nbsp\;\nTransport\, $30 Members &amp\; $35 Non-members\nIf
  you are not a member of Hamilton Tramping Club and would like more Inform
 ation about our trips please contact the Club Captain Kathy Old on 027 815
  3212\n&nbsp\;
DTSTART:20250510T193000Z
DTEND:20250511T041900Z
GEO:00;0
LOCATION:
ORGANIZER;CN=:mailto:lornagribble@gmail.com
SEQUENCE:1
SUMMARY:Trip 1335 May 11\, Black Ridge and Telegraph Track aka O’Regans (Ho
 e-o-Tainui)\;  Waikato /Grade A
TRANSP:OPAQUE
URL:https://tramphtc.org.nz/index.php/component/icagenda/35-trip-1335-may-1
 1-black-ridge-and-telegraph-track-aka-o-regans-hoe-o-tainui-waikato-grade-
 a
END:VEVENT
END:VCALENDAR
