BEGIN:VCALENDAR
VERSION:2.0
PRODID:-//Hamilton Tramping Club//NONSGML kigkonsult.se iCalcreator 2.41.92//
CALSCALE:GREGORIAN
METHOD:PUBLISH
UID:32336364-6362-4961-a338-346262386335
X-WR-CALNAME:iCagenda
X-WR-CALDESC:Event Management Extension for Joomla!
X-WR-RELCALID:3E26604A-50F4-4449-8B3E-E4F4932D05B5
X-WR-TIMEZONE:Pacific/Auckland
BEGIN:VTIMEZONE
TZID:Pacific/Auckland
TZUNTIL:20270403T140000Z
BEGIN:STANDARD
TZNAME:NZST
DTSTART:20250406T030000
TZOFFSETFROM:+1300
TZOFFSETTO:+1200
RDATE:20260405T030000
END:STANDARD
BEGIN:DAYLIGHT
TZNAME:NZDT
DTSTART:20240929T020000
TZOFFSETFROM:+1200
TZOFFSETTO:+1300
RDATE:20250928T020000
RDATE:20260927T020000
END:DAYLIGHT
END:VTIMEZONE
BEGIN:VEVENT
UID:36316564-6366-4739-b665-353635633431
DTSTAMP:20260420T140923Z
CATEGORIES:A Grade
CLASS:PUBLIC
DESCRIPTION;ALTREP="CID:<FFFF__=0ABBE548DFE235B58f9e8a93d@coffeebean.com>":
 &nbsp\;\n&nbsp\;\n&nbsp\;\nLeaders Bill &amp\; Yvonne\n&nbsp\;\nBookings s
 tart March 25 to April 21\n&nbsp\;\nOne of Bills favourite tramp locations
  with good views on a clear day.\nAbout 5 &amp\; half hours walking a coup
 le of loop tracks\nBring your own cup and saucer for a nice brew by Bill\n
 (cake is optional)\n&nbsp\;\nTransport\, $30 Members &amp\; $35 Non-member
 s.&nbsp\; If bookings are low we may take personal transport.\nIf you are 
 not a member of Hamilton Tramping Club and would like more Information abo
 ut our trips please contact the Club Captain Kathy Old on 027 815 3212
DTSTART:20250427T041300Z
DTEND:20250427T041300Z
GEO:00;0
LOCATION:
ORGANIZER;CN=:mailto:bill@redman-white.org
SEQUENCE:1
SUMMARY:Trip 1334 APR 27\, Hillary Hope\, Grade A
TRANSP:OPAQUE
URL:https://tramphtc.org.nz/index.php/component/icagenda/34-trip-1334-apr-2
 7-nora-s-track-mamaku-plateau-grade-a
END:VEVENT
END:VCALENDAR
