BEGIN:VCALENDAR
VERSION:2.0
PRODID:-//Hamilton Tramping Club//NONSGML kigkonsult.se iCalcreator 2.41.92//
CALSCALE:GREGORIAN
METHOD:PUBLISH
UID:34343136-3262-4936-b038-643166346137
X-WR-CALNAME:iCagenda
X-WR-CALDESC:Event Management Extension for Joomla!
X-WR-RELCALID:3E26604A-50F4-4449-8B3E-E4F4932D05B5
X-WR-TIMEZONE:Pacific/Auckland
BEGIN:VTIMEZONE
TZID:Pacific/Auckland
TZUNTIL:20270403T140000Z
BEGIN:STANDARD
TZNAME:NZST
DTSTART:20250406T030000
TZOFFSETFROM:+1300
TZOFFSETTO:+1200
RDATE:20260405T030000
END:STANDARD
BEGIN:DAYLIGHT
TZNAME:NZDT
DTSTART:20240929T020000
TZOFFSETFROM:+1200
TZOFFSETTO:+1300
RDATE:20250928T020000
RDATE:20260927T020000
END:DAYLIGHT
END:VTIMEZONE
BEGIN:VEVENT
UID:61656232-6337-4231-b162-656666366237
DTSTAMP:20260420T135951Z
CATEGORIES:B Grade
CLASS:PUBLIC
DESCRIPTION;ALTREP="CID:<FFFF__=0ABBE548DFE235B58f9e8a93d@coffeebean.com>":
 &nbsp\;\nPirongia Blue Falls camping trip\, Easter Weekend&nbsp\;\n&nbsp\;
 \nLeaders Michiel &amp\; Lorna\nBookings start March 1 to April 21\n&nbsp\
 ;\nPlan is as follows.\nGood Friday 18 April:\nLeave 7.30am with transport
  to Vandy Road and walk via old ridge route to Central Clearing camp site.
  State of track unknown\, but I assume it's similar to the Oparau route we
  did before.\nSaturday 19 April:\nTo the Blue Falls going cross country fr
 om the campsite.\nBack to campsite\, pack up and walk out via Bell Track t
 o Kaniwhaniwha Reserve.\n&nbsp\;\nDates depending on the weather and membe
 r preference.\nTransport to Vandy Road and from Kaniwhaniwha to be arrange
 d depending on number of people. If 4-5 people max\, we could drop a car o
 ff at Kaniwhaniwha and drive on to Vandy Road. It's about a 20 minutes dri
 ve between ends.\n&nbsp\;\nAnybody interested please book asp\nRegards\, M
 ichiel\nIf you are not a member of Hamilton Tramping Club and would like m
 ore Information about our trips please contact the Club Captain Kathy Old 
 on 027 815 3212\n&nbsp\;
DTSTART:20250417T193000Z
DTEND:20250419T060000Z
GEO:00;0
LOCATION:
ORGANIZER;CN=:mailto:michielvd@hotmail.com
SEQUENCE:1
SUMMARY:Trip 1333 APR 18-19\, EASTER WEEKEND – Pirongia Bue Falls camping t
 rip /Grade B
TRANSP:OPAQUE
URL:https://tramphtc.org.nz/index.php/component/icagenda/33-trip-1333-apr-2
 5-27-anzac-weekend-central-clearing-campsite-bell-falls-pirongia-grade-b
END:VEVENT
END:VCALENDAR
