BEGIN:VCALENDAR
VERSION:2.0
PRODID:-//Hamilton Tramping Club//NONSGML kigkonsult.se iCalcreator 2.41.92//
CALSCALE:GREGORIAN
METHOD:PUBLISH
UID:66333266-3330-4766-b563-353132313464
X-WR-CALNAME:iCagenda
X-WR-CALDESC:Event Management Extension for Joomla!
X-WR-RELCALID:3E26604A-50F4-4449-8B3E-E4F4932D05B5
X-WR-TIMEZONE:Pacific/Auckland
BEGIN:VTIMEZONE
TZID:Pacific/Auckland
TZUNTIL:20270403T140000Z
BEGIN:STANDARD
TZNAME:NZST
DTSTART:20240407T030000
TZOFFSETFROM:+1300
TZOFFSETTO:+1200
RDATE:20250406T030000
RDATE:20260405T030000
END:STANDARD
BEGIN:DAYLIGHT
TZNAME:NZDT
DTSTART:20240929T020000
TZOFFSETFROM:+1200
TZOFFSETTO:+1300
RDATE:20250928T020000
RDATE:20260927T020000
END:DAYLIGHT
END:VTIMEZONE
BEGIN:VEVENT
UID:36636666-3034-4238-a530-366366663437
DTSTAMP:20260420T135935Z
CATEGORIES:B Grade
CLASS:PUBLIC
DESCRIPTION;ALTREP="CID:<FFFF__=0ABBE548DFE235B58f9e8a93d@coffeebean.com>":
 &nbsp\;\n&nbsp\;\nLeaders Cate &amp\; Anna\nBookings start March 1 to Apri
 l 14\nMore Details to Follow\n&nbsp\;\nTransport Details and other costs w
 ill be available soon\nIf you are not a member of Hamilton Tramping Club a
 nd would like more Information about our trips please contact the Club Cap
 tain Kathy Old on 027 815 3212
DTSTART:20250404T231000Z
DTEND:20250404T231100Z
GEO:00;0
LOCATION:
ORGANIZER;CN=:mailto:k8.hampton@xtra.co.nz
SEQUENCE:1
SUMMARY:Trip 1332  APR 18-21\, EASTER WEEKEND – Upper Whirinaki /Grade B.
TRANSP:OPAQUE
URL:https://tramphtc.org.nz/index.php/component/icagenda/32-trip-1332-apr-1
 8-21-easter-weekend-upper-whirinaki-grade-b
END:VEVENT
END:VCALENDAR
