BEGIN:VCALENDAR
VERSION:2.0
PRODID:-//Hamilton Tramping Club//NONSGML kigkonsult.se iCalcreator 2.41.92//
CALSCALE:GREGORIAN
METHOD:PUBLISH
UID:65356236-3337-4337-b661-653438646630
X-WR-CALNAME:iCagenda
X-WR-CALDESC:Event Management Extension for Joomla!
X-WR-RELCALID:3E26604A-50F4-4449-8B3E-E4F4932D05B5
X-WR-TIMEZONE:Pacific/Auckland
BEGIN:VTIMEZONE
TZID:Pacific/Auckland
TZUNTIL:20270403T140000Z
BEGIN:STANDARD
TZNAME:NZST
DTSTART:20250406T030000
TZOFFSETFROM:+1300
TZOFFSETTO:+1200
RDATE:20260405T030000
END:STANDARD
BEGIN:DAYLIGHT
TZNAME:NZDT
DTSTART:20240929T020000
TZOFFSETFROM:+1200
TZOFFSETTO:+1300
RDATE:20250928T020000
RDATE:20260927T020000
END:DAYLIGHT
END:VTIMEZONE
BEGIN:VEVENT
UID:63646564-3665-4731-b236-383962333163
DTSTAMP:20260420T140320Z
CATEGORIES:A Grade
CLASS:PUBLIC
DESCRIPTION;ALTREP="CID:<FFFF__=0ABBE548DFE235B58f9e8a93d@coffeebean.com>":
 &nbsp\;\nLeaders&nbsp\; Christine &amp\; Carl\n&nbsp\;\nBookings start Mar
 ch 13 - April 7\n&nbsp\;\nA fun day out with a drive to Pirongia then up t
 he winding Sainsbury Rd to the Mountain Bike Centre. We will follow the ma
 in Forrest road up to the bush line and then continue a mostly marked trac
 k to the top of Tihitoetoe @ 845m high. A short bush bash along the top of
  the ridge leads to an excellent view point to have lunch. On the way back
  maybe ice cream or a coffee.\nAny Questions contact Christine on 021 235 
 9076&nbsp\;&nbsp\; or Carl on 027 354 9273\n&nbsp\;\nTransport\, $30 Membe
 rs &amp\; $35 Non-members\nIf you are not a member of Hamilton Tramping Cl
 ub and would like more Information about our trips please contact the Club
  Captain Kathy Old on 027 815 3212
DTSTART:20250412T193000Z
DTEND:20250413T060000Z
GEO:00;0
LOCATION:
ORGANIZER;CN=:mailto:dolphin2222@hotmail.com
SEQUENCE:1
SUMMARY:Trip 1331 APR 13\, Mt Pirongia Day Walk  -Sainsbury Road to Tihitoe
 toe/Grade A.
TRANSP:OPAQUE
URL:https://tramphtc.org.nz/index.php/component/icagenda/31-trip-1331-mar-m
 t-te-aroha-via-waiorongomai-grade-a
END:VEVENT
END:VCALENDAR
