BEGIN:VCALENDAR
VERSION:2.0
PRODID:-//Hamilton Tramping Club//NONSGML kigkonsult.se iCalcreator 2.41.92//
CALSCALE:GREGORIAN
METHOD:PUBLISH
UID:38346335-6364-4666-a637-353366303534
X-WR-CALNAME:iCagenda
X-WR-CALDESC:Event Management Extension for Joomla!
X-WR-RELCALID:3E26604A-50F4-4449-8B3E-E4F4932D05B5
X-WR-TIMEZONE:Pacific/Auckland
BEGIN:VTIMEZONE
TZID:Pacific/Auckland
TZUNTIL:20260926T140000Z
BEGIN:STANDARD
TZNAME:NZST
DTSTART:20240407T030000
TZOFFSETFROM:+1300
TZOFFSETTO:+1200
RDATE:20250406T030000
RDATE:20260405T030000
END:STANDARD
BEGIN:DAYLIGHT
TZNAME:NZDT
DTSTART:20240929T020000
TZOFFSETFROM:+1200
TZOFFSETTO:+1300
RDATE:20250928T020000
END:DAYLIGHT
END:VTIMEZONE
BEGIN:VEVENT
UID:62383036-3562-4230-b736-336461356231
DTSTAMP:20260420T152927Z
CATEGORIES:A Grade
CLASS:PUBLIC
DESCRIPTION;ALTREP="CID:<FFFF__=0ABBE548DFE235B58f9e8a93d@coffeebean.com>":
 &nbsp\;\nTrip 1330 MAR 23\, Mt Te Aroha via Waiorongomai Grade A.\n&nbsp\;
 \nLeaders Carl (027 354 9273)\nBookings start Feb 23 to Mar 17\nHello Tram
 pers\, sorry for the short notice. Unfortunately Sharon the leader has had
  to pull out at the last minute.\nThis tramp is still on but it may not go
  to the summit. Instead we will explore the many tracks at the&nbsp\;Waior
 ongomai area\nAny questions please contact me\nCheers Carl\n&nbsp\;\nTrans
 port\, $30 Members &amp\; $35 Non-members\nIf you are not a member of Hami
 lton Tramping Club and would like more Information about our trips please 
 contact the Club Captain Kathy Old on 027 815 3212
DTSTART:20250322T183000Z
DTEND:20250323T043000Z
GEO:00;0
LOCATION:
ORGANIZER;CN=:mailto:mosclanz@gmail.com
SEQUENCE:1
SUMMARY:Trip 1330 MAR 23\, Mt Te Aroha via Waiorongomai Grade A.
TRANSP:OPAQUE
URL:https://tramphtc.org.nz/index.php/component/icagenda/30-trip-1330-mar-2
 3-mt-te-aroha-via-waiorongomai-grade-a
END:VEVENT
END:VCALENDAR
