BEGIN:VCALENDAR
VERSION:2.0
PRODID:-//Hamilton Tramping Club//NONSGML kigkonsult.se iCalcreator 2.41.92//
CALSCALE:GREGORIAN
METHOD:PUBLISH
UID:61643364-3036-4430-a131-356437326464
X-WR-CALNAME:iCagenda
X-WR-CALDESC:Event Management Extension for Joomla!
X-WR-RELCALID:3E26604A-50F4-4449-8B3E-E4F4932D05B5
X-WR-TIMEZONE:Pacific/Auckland
BEGIN:VTIMEZONE
TZID:Pacific/Auckland
TZUNTIL:20260926T140000Z
BEGIN:STANDARD
TZNAME:NZST
DTSTART:20240407T030000
TZOFFSETFROM:+1300
TZOFFSETTO:+1200
RDATE:20250406T030000
RDATE:20260405T030000
END:STANDARD
BEGIN:DAYLIGHT
TZNAME:NZDT
DTSTART:20240929T020000
TZOFFSETFROM:+1200
TZOFFSETTO:+1300
RDATE:20250928T020000
END:DAYLIGHT
END:VTIMEZONE
BEGIN:VEVENT
UID:65393061-6365-4739-b265-393062313634
DTSTAMP:20260420T151744Z
CATEGORIES:A Grade
CLASS:PUBLIC
DESCRIPTION;ALTREP="CID:<FFFF__=0ABBE548DFE235B58f9e8a93d@coffeebean.com>":
 &nbsp\;\nTrip 1329 MAR 9\, Firewood Creek\, Train Wreck\, Waikato Grade A.
 \nLeaders Michiel &amp\; Lorna\n&nbsp\;\nBookings start Feb 9 to Mar 3\n&n
 bsp\;\nLeaving Hamilton on Sunday 9 March 9am. A short day.\nMeet at Hakar
 imata Railway Track carpark on Waingaro Rd.\nFirst 1.5km on track\, after 
 that we will try and follow a vague track following the route of the old G
 len Massey coal railway line. We might end up walking through the adjacent
  Firewood Creek if this seems easier than bushbashing our way through.\nTh
 is will be for about 2km\, when we reach our exit point: a swimhole with s
 teps up to the road. The remainder of a viaduct and pieces of the train wr
 eck are supposedly not far from this point in the river. The train veered 
 off track at this viaduct in 1933.\nWe will need at least one vehicle at e
 ach end.\n&nbsp\;\nIt's all a bit of an unknown so come prepared for an ex
 ploration and getting wet\, but it will be a fun experience.\n&nbsp\;\nTra
 nsport\, $30 Members &amp\; $35 Non-members (if numbers are low we may arr
 ange to car pool which will cost less)\nIf you are not a member of Hamilto
 n Tramping Club and would like more Information about our trips please con
 tact the Club Captain Kathy Old on 027 815 3212\n&nbsp\;\n&nbsp\;\n&nbsp\;
DTSTART:20250308T180000Z
DTEND:20250309T043000Z
GEO:00;0
LOCATION:
ORGANIZER;CN=:mailto:michielvd@hotmail.com
SEQUENCE:1
SUMMARY:Trip 1329 MAR 9\, Firewood Creek\, Train Wreck\, Waikato Grade A
TRANSP:OPAQUE
URL:https://tramphtc.org.nz/index.php/component/icagenda/29-trip-1329-mar-9
 -firewood-creek-train-wreck-waikato-grade-a
END:VEVENT
END:VCALENDAR
