BEGIN:VCALENDAR
VERSION:2.0
PRODID:-//Hamilton Tramping Club//NONSGML kigkonsult.se iCalcreator 2.41.92//
CALSCALE:GREGORIAN
METHOD:PUBLISH
UID:30656261-6364-4134-b162-393662326638
X-WR-CALNAME:iCagenda
X-WR-CALDESC:Event Management Extension for Joomla!
X-WR-RELCALID:3E26604A-50F4-4449-8B3E-E4F4932D05B5
X-WR-TIMEZONE:Pacific/Auckland
BEGIN:VTIMEZONE
TZID:Pacific/Auckland
TZUNTIL:20260926T140000Z
BEGIN:STANDARD
TZNAME:NZST
DTSTART:20240407T030000
TZOFFSETFROM:+1300
TZOFFSETTO:+1200
RDATE:20250406T030000
RDATE:20260405T030000
END:STANDARD
BEGIN:DAYLIGHT
TZNAME:NZDT
DTSTART:20240929T020000
TZOFFSETFROM:+1200
TZOFFSETTO:+1300
RDATE:20250928T020000
END:DAYLIGHT
END:VTIMEZONE
BEGIN:VEVENT
UID:62313730-3635-4435-b539-316365633938
DTSTAMP:20260420T152226Z
CATEGORIES:A Grade
CLASS:PUBLIC
DESCRIPTION;ALTREP="CID:<FFFF__=0ABBE548DFE235B58f9e8a93d@coffeebean.com>":
 &nbsp\;\nTrip 1328 Mar 8-22&nbsp\; South Island Trip – Kahurangi National 
 Park (MEMBERS ONLY – For enquiries\, call Kathy). Grade A\n&nbsp\;\nLeader
 s Kathy O &amp\; Sue J\nBookings start&nbsp\; Now to Early March\n&nbsp\;
 \nMore Details to Follow\n&nbsp\;\nIf you are not a member of Hamilton Tra
 mping Club and would like more Information about our trips please contact 
 the Club Captain Kathy Old on 027 815 3212\n&nbsp\;
DTSTART:20250307T210000Z
DTEND:20250322T050000Z
GEO:00;0
LOCATION:
ORGANIZER;CN=:mailto:kathyoldgirl@gmail.com
SEQUENCE:1
SUMMARY:Trip 1328 MAR 8-22  South Island Trip – Kahurangi National Park (ME
 MBERS ONLY –  For enquiries\, call Kathy). Grade A
TRANSP:OPAQUE
URL:https://tramphtc.org.nz/index.php/component/icagenda/28-trip-1328-mar-8
 -22-south-island-trip-kahurangi-national-park-members-only-for-enquiries-c
 all-kathy-grade-a
END:VEVENT
END:VCALENDAR
