BEGIN:VCALENDAR
VERSION:2.0
PRODID:-//Hamilton Tramping Club//NONSGML kigkonsult.se iCalcreator 2.41.92//
CALSCALE:GREGORIAN
METHOD:PUBLISH
UID:35646138-3235-4339-a338-626465613239
X-WR-CALNAME:iCagenda
X-WR-CALDESC:Event Management Extension for Joomla!
X-WR-RELCALID:3E26604A-50F4-4449-8B3E-E4F4932D05B5
X-WR-TIMEZONE:Pacific/Auckland
BEGIN:VTIMEZONE
TZID:Pacific/Auckland
TZUNTIL:20260926T140000Z
BEGIN:STANDARD
TZNAME:NZST
DTSTART:20240407T030000
TZOFFSETFROM:+1300
TZOFFSETTO:+1200
RDATE:20250406T030000
RDATE:20260405T030000
END:STANDARD
BEGIN:DAYLIGHT
TZNAME:NZDT
DTSTART:20240929T020000
TZOFFSETFROM:+1200
TZOFFSETTO:+1300
RDATE:20250928T020000
END:DAYLIGHT
END:VTIMEZONE
BEGIN:VEVENT
UID:64663166-6239-4063-a365-363261363864
DTSTAMP:20260420T172204Z
CATEGORIES:A Grade
CLASS:PUBLIC
DESCRIPTION;ALTREP="CID:<FFFF__=0ABBE548DFE235B58f9e8a93d@coffeebean.com>":
 &nbsp\;\nTrip 1327 FEB23&nbsp\; Southern Hapuakohe (Grade A)\nBookings sta
 rt Jan 23 to Feb 17\nLeaders Ian &amp\; Christine L\n&nbsp\;\nThe Hapuakoh
 e Range runs&nbsp\;North-South from Firth Of Thames to Te Hoe and is split
  by the Ohinewai Road. The ridge is bush and forest clad but in places alo
 ng the track gives magnificent views overlooking bush\, farm and swamp-lan
 ds of the Hauraki Plains and the Waikato. We plan to walk on the Southern&
 nbsp\;track starting at Ohinewai Road and will have a couple of modest pea
 ks above 500m to climb. The tramp requires reasonable fitness and is estim
 ated to be of about&nbsp\;6 hours duration. Hopefully we can get a good gr
 oup keen to join and&nbsp\;make this an interesting and enjoyable tramp.\n
 We plan to depart from Mill Lane at 7.30am Sunday\nPlease let me know if y
 ou wish to join the group by booking online\nAny queries contact me&nbsp\;
  on 027 7774551&nbsp\;\n&nbsp\;\nTransport\, $30 Members &amp\; $35 Non-me
 mbers\n&nbsp\;\nIf you are not a member of Hamilton Tramping Club and woul
 d like more Information about our trips please contact the Club Captain Ka
 thy Old on 027 815 3212\n&nbsp\;
DTSTART:20250222T180000Z
DTEND:20250223T043000Z
GEO:00;0
LOCATION:
ORGANIZER;CN=:mailto:iankindred1@gmail.com
SEQUENCE:1
SUMMARY:Trip 1327 FEB 23  Southern Hapuakohe (Grade A)
TRANSP:OPAQUE
URL:https://tramphtc.org.nz/index.php/component/icagenda/27-trip-1327-feb-2
 3-southern-hapuakohe-grade-a-or-northern-hapuakohe-grade-b
END:VEVENT
END:VCALENDAR
