BEGIN:VCALENDAR
VERSION:2.0
PRODID:-//Hamilton Tramping Club//NONSGML kigkonsult.se iCalcreator 2.41.92//
CALSCALE:GREGORIAN
METHOD:PUBLISH
UID:62636662-3433-4533-b635-663062323364
X-WR-CALNAME:iCagenda
X-WR-CALDESC:Event Management Extension for Joomla!
X-WR-RELCALID:3E26604A-50F4-4449-8B3E-E4F4932D05B5
X-WR-TIMEZONE:Pacific/Auckland
BEGIN:VTIMEZONE
TZID:Pacific/Auckland
TZUNTIL:20260926T140000Z
BEGIN:STANDARD
TZNAME:NZST
DTSTART:20240407T030000
TZOFFSETFROM:+1300
TZOFFSETTO:+1200
RDATE:20250406T030000
RDATE:20260405T030000
END:STANDARD
BEGIN:DAYLIGHT
TZNAME:NZDT
DTSTART:20240929T020000
TZOFFSETFROM:+1200
TZOFFSETTO:+1300
RDATE:20250928T020000
END:DAYLIGHT
END:VTIMEZONE
BEGIN:VEVENT
UID:30373632-3338-4766-b133-313666643635
DTSTAMP:20260420T171853Z
CATEGORIES:A Grade
CLASS:PUBLIC
DESCRIPTION;ALTREP="CID:<FFFF__=0ABBE548DFE235B58f9e8a93d@coffeebean.com>":
 &nbsp\;\nTrip 1326 FEB 16\, OPEN DAY – Rapurapu Kauri Track&nbsp\; Grade A
 \nBookings open Jan 16 to Feb 10\n&nbsp\;\nLeaders Janice &amp\; Lynne\n&n
 bsp\;\nJoin Janice &amp\; Lynne for a Fun Day out\n&nbsp\;\nTransport\, $3
 0 Members &amp\; $35 Non-members\nIf you are not a member of Hamilton Tram
 ping Club and would like more Information about our trips please contact t
 he Club Captain Kathy Old on 027 815 3212\n&nbsp\;\n&nbsp\;
DTSTART:20250215T183000Z
DTEND:20250216T033000Z
GEO:00;0
LOCATION:
ORGANIZER;CN=:mailto:Janice_eland@live.com
SEQUENCE:1
SUMMARY:Trip 1326 FEB 16\, OPEN DAY – Rapurapu Kauri Track Grade A - Nearly
  Full
TRANSP:OPAQUE
URL:https://tramphtc.org.nz/index.php/component/icagenda/26-trip-1326-feb-1
 6-open-day-rapurapu-kauri-track-grade-a
END:VEVENT
END:VCALENDAR
